BEGIN:VCALENDAR
VERSION:2.0
PRODID:-//The Island House - ECPv6.15.10//NONSGML v1.0//EN
CALSCALE:GREGORIAN
METHOD:PUBLISH
X-WR-CALNAME:The Island House
X-ORIGINAL-URL:https://www.the-island-house.com
X-WR-CALDESC:Events for The Island House
REFRESH-INTERVAL;VALUE=DURATION:PT1H
X-Robots-Tag:noindex
X-PUBLISHED-TTL:PT1H
BEGIN:VTIMEZONE
TZID:America/New_York
BEGIN:DAYLIGHT
TZOFFSETFROM:-0500
TZOFFSETTO:-0400
TZNAME:EDT
DTSTART:20250309T070000
END:DAYLIGHT
BEGIN:STANDARD
TZOFFSETFROM:-0400
TZOFFSETTO:-0500
TZNAME:EST
DTSTART:20251102T060000
END:STANDARD
BEGIN:DAYLIGHT
TZOFFSETFROM:-0500
TZOFFSETTO:-0400
TZNAME:EDT
DTSTART:20260308T070000
END:DAYLIGHT
BEGIN:STANDARD
TZOFFSETFROM:-0400
TZOFFSETTO:-0500
TZNAME:EST
DTSTART:20261101T060000
END:STANDARD
BEGIN:DAYLIGHT
TZOFFSETFROM:-0500
TZOFFSETTO:-0400
TZNAME:EDT
DTSTART:20270314T070000
END:DAYLIGHT
BEGIN:STANDARD
TZOFFSETFROM:-0400
TZOFFSETTO:-0500
TZNAME:EST
DTSTART:20271107T060000
END:STANDARD
END:VTIMEZONE
BEGIN:VTIMEZONE
TZID:America/Halifax
BEGIN:DAYLIGHT
TZOFFSETFROM:-0400
TZOFFSETTO:-0300
TZNAME:ADT
DTSTART:20250309T060000
END:DAYLIGHT
BEGIN:STANDARD
TZOFFSETFROM:-0300
TZOFFSETTO:-0400
TZNAME:AST
DTSTART:20251102T050000
END:STANDARD
BEGIN:DAYLIGHT
TZOFFSETFROM:-0400
TZOFFSETTO:-0300
TZNAME:ADT
DTSTART:20260308T060000
END:DAYLIGHT
BEGIN:STANDARD
TZOFFSETFROM:-0300
TZOFFSETTO:-0400
TZNAME:AST
DTSTART:20261101T050000
END:STANDARD
BEGIN:DAYLIGHT
TZOFFSETFROM:-0400
TZOFFSETTO:-0300
TZNAME:ADT
DTSTART:20270314T060000
END:DAYLIGHT
BEGIN:STANDARD
TZOFFSETFROM:-0300
TZOFFSETTO:-0400
TZNAME:AST
DTSTART:20271107T050000
END:STANDARD
END:VTIMEZONE
BEGIN:VEVENT
DTSTART;TZID=America/New_York:20260208T173000
DTEND;TZID=America/New_York:20260208T223000
DTSTAMP:20260423T075910
CREATED:20260126T165441Z
LAST-MODIFIED:20260126T165441Z
UID:14391-1770571800-1770589800@www.the-island-house.com
SUMMARY:Big Game Sunday
DESCRIPTION:Grab your jerseys\, flags\, and lucky charms and join us at The Island House for the ultimate Big Game watch party! We’re taking the action outdoors with a live screening on the lawn\, so bring your\nblankets\, chairs\, and pillows\, and settle in under the stars. \nEnjoy game-day bites and drink specials all night long to keep the energy high from kickoff to the final play. \nDoors open at 5:30 PM | Kickoff at 6:30 PM
URL:https://www.the-island-house.com/event/big-game-sunday/
LOCATION:Amphitheater
CATEGORIES:The Island House
ATTACH;FMTTYPE=image/jpeg:https://www.the-island-house.com/wp-content/uploads/2026/01/Horizontal-No-Copy.jpg
END:VEVENT
BEGIN:VEVENT
DTSTART;TZID=America/Halifax:20260212T193000
DTEND;TZID=America/Halifax:20260212T213000
DTSTAMP:20260423T075910
CREATED:20260209T162046Z
LAST-MODIFIED:20260209T162046Z
UID:14638-1770924600-1770931800@www.the-island-house.com
SUMMARY:Unwinding Hours: Danielle Lee
DESCRIPTION:Danielle Lee\, a powerhouse vocalist with a wide-ranging repertoire\, will perform at this Thursday’s Unwinding Hour. Classically trained\, yet equally at home in genres like R&B\, jazz\, and pop\, Danielle captivates audiences with her versatile voice and magnetic stage presence. \nUnwinding Hour\, Yellowbell’s legacy live music series\, is always free\, and reservations are not required. It’s the perfect setting to gather with friends\, relax\, and savor an evening of exceptional music. See you there!
URL:https://www.the-island-house.com/event/unwinding-hours-danielle-lee-2/
LOCATION:Yellowbell\, The Island House\, Bahamas
CATEGORIES:Yellowbell
ATTACH;FMTTYPE=image/jpeg:https://www.the-island-house.com/wp-content/uploads/2025/10/515871405_1160974146072624_7030896192922340332_n.jpg
ORGANIZER;CN="The Island House":MAILTO:events@the-island-house.com
END:VEVENT
BEGIN:VEVENT
DTSTART;TZID=America/New_York:20260213T190000
DTEND;TZID=America/New_York:20260213T203000
DTSTAMP:20260423T075910
CREATED:20260123T172437Z
LAST-MODIFIED:20260123T172437Z
UID:14310-1771009200-1771014600@www.the-island-house.com
SUMMARY:Waiting to Exhale: A Galentine's Yoga Affair
DESCRIPTION:Join us for an evening of gentle vinyasa flow\, set to the soundtrack of “Waiting to Exhale”\, followed by a meditative sound bath. Strawberry mimosas\,chocolate-covered strawberries\, and cookies will be served. \nLed by Whitney Fowler
URL:https://www.the-island-house.com/event/waiting-to-exhale-a-galentines-yoga-affair/
LOCATION:The Well\, Bahamas
CATEGORIES:Wellness
ATTACH;FMTTYPE=image/jpeg:https://www.the-island-house.com/wp-content/uploads/2026/01/Horizontal_NoCopy.jpg
ORGANIZER;CN="The Island House":MAILTO:events@the-island-house.com
END:VEVENT
BEGIN:VEVENT
DTSTART;TZID=America/New_York:20260215T110000
DTEND;TZID=America/New_York:20260215T150000
DTSTAMP:20260423T075910
CREATED:20260205T221641Z
LAST-MODIFIED:20260205T221641Z
UID:14595-1771153200-1771167600@www.the-island-house.com
SUMMARY:Mogano Valentines Brunch
DESCRIPTION:Come with your special plus one as we launch Mogano’s brunch series. Not only are we launching\nour new Sunday Brunch series on February 15th\, but throughout the Valentine’s weekend\, we will be offering a few extra special dishes\, including a decadent dessert for you to enjoy. \nReservations recommended.
URL:https://www.the-island-house.com/event/mogano-valentines-brunch/
LOCATION:Mogano
CATEGORIES:Mogano
ATTACH;FMTTYPE=image/jpeg:https://www.the-island-house.com/wp-content/uploads/2026/02/Mogano_v-day_Brunch_Banner-scaled.jpg
ORGANIZER;CN="The Island House":MAILTO:events@the-island-house.com
END:VEVENT
BEGIN:VEVENT
DTSTART;TZID=America/Halifax:20260219T193000
DTEND;TZID=America/Halifax:20260219T213000
DTSTAMP:20260423T075910
CREATED:20260209T162211Z
LAST-MODIFIED:20260209T162211Z
UID:14641-1771529400-1771536600@www.the-island-house.com
SUMMARY:Unwinding Hours: JudahThaLion
DESCRIPTION:JudahThaLion is a Bahamian Reggae Fusion artist blurring the lines between soulful ballads and feel-good island riddims. \nUnwinding Hour\, Yellowbell’s legacy live music series\, is always free\, and reservations are not\nrequired. It’s the perfect setting to gather with friends\, relax\, and savor an evening of exceptional music. See you there!
URL:https://www.the-island-house.com/event/unwinding-hours-judahthalion/
LOCATION:Yellowbell\, The Island House\, Bahamas
CATEGORIES:Yellowbell
ATTACH;FMTTYPE=image/jpeg:https://www.the-island-house.com/wp-content/uploads/2025/10/DSC03076-scaled.jpg
ORGANIZER;CN="The Island House":MAILTO:events@the-island-house.com
END:VEVENT
BEGIN:VEVENT
DTSTART;TZID=America/New_York:20260220T170000
DTEND;TZID=America/New_York:20260220T230000
DTSTAMP:20260423T075910
CREATED:20260218T171331Z
LAST-MODIFIED:20260218T172012Z
UID:14782-1771606800-1771628400@www.the-island-house.com
SUMMARY:Sip\, Shuck & Roll
DESCRIPTION:An evening made for indulging. Fresh shucks\, signature rolls\, and sips worth savoring.\n\n\nSee you on Friday\, February 20\, at 5 PM at Shima.
URL:https://www.the-island-house.com/event/sip-shuck-roll/
LOCATION:Shima\, The Island House\, Bahamas
CATEGORIES:Shima
ATTACH;FMTTYPE=image/jpeg:https://www.the-island-house.com/wp-content/uploads/2026/02/638779429_1330030665833637_5685008610570198344_n.jpg
ORGANIZER;CN="The Island House":MAILTO:events@the-island-house.com
END:VEVENT
BEGIN:VEVENT
DTSTART;TZID=America/New_York:20260224T173000
DTEND;TZID=America/New_York:20260224T233000
DTSTAMP:20260423T075910
CREATED:20260218T165859Z
LAST-MODIFIED:20260218T165859Z
UID:14780-1771954200-1771975800@www.the-island-house.com
SUMMARY:Taco Tuesday
DESCRIPTION:Tacos\, tequila\, and Latin beats! Join us for Taco Tuesday on February 24 at Yellowbell starting at 5:30 PM for a night of flavor and fun. Perfectly paired with a margarita that packs a punch\, indulge in mouthwatering bites. \n\n\n\nReservations are not required!
URL:https://www.the-island-house.com/event/taco-tuesday/
LOCATION:Yellowbell\, The Island House\, Bahamas
CATEGORIES:Yellowbell
ATTACH;FMTTYPE=image/jpeg:https://www.the-island-house.com/wp-content/uploads/2025/11/MG_4161-Edit-scaled.jpg
ORGANIZER;CN="The Island House":MAILTO:events@the-island-house.com
END:VEVENT
BEGIN:VEVENT
DTSTART;TZID=America/Halifax:20260226T193000
DTEND;TZID=America/Halifax:20260226T213000
DTSTAMP:20260423T075910
CREATED:20260209T163118Z
LAST-MODIFIED:20260209T163118Z
UID:14643-1772134200-1772141400@www.the-island-house.com
SUMMARY:Unwinding Hour: Rum Dums
DESCRIPTION:The Rum Dums take you on a journey through sound\, weaving together jazz\, blues\, rock\, and reggae with nostalgic charm and fresh energy—shifting seamlessly from laid-back grooves to powerhouse anthems\, all fueled by their undeniable on-stage chemistry. \nUnwinding Hour\, Yellowbell’s legacy live music series\, is always free\, and reservations are not required. It’s the perfect setting to gather with friends\, relax\, and savor an evening of exceptional music. See you there!
URL:https://www.the-island-house.com/event/unwinding-hour-rum-dums/
LOCATION:Yellowbell\, The Island House\, Bahamas
CATEGORIES:Yellowbell
ATTACH;FMTTYPE=image/jpeg:https://www.the-island-house.com/wp-content/uploads/2025/08/IMG_7741-scaled.jpg
ORGANIZER;CN="The Island House":MAILTO:events@the-island-house.com
END:VEVENT
BEGIN:VEVENT
DTSTART;TZID=America/New_York:20260227T170000
DTEND;TZID=America/New_York:20260227T190000
DTSTAMP:20260423T075910
CREATED:20260218T214725Z
LAST-MODIFIED:20260218T214725Z
UID:14803-1772211600-1772218800@www.the-island-house.com
SUMMARY:Shima Happy Hour
DESCRIPTION:More ways to enjoy happy hour! Join us at Shima on Friday\, February 27\, from 5pm–7pm for half-priced sushi specials\, sampler platters\, and discounted drinks.
URL:https://www.the-island-house.com/event/shima-happy-hour/
LOCATION:Shima\, The Island House\, Bahamas
CATEGORIES:Shima
ATTACH;FMTTYPE=image/jpeg:https://www.the-island-house.com/wp-content/uploads/2026/02/Horizontal.jpg
ORGANIZER;CN="The Island House":MAILTO:events@the-island-house.com
END:VEVENT
BEGIN:VEVENT
DTSTART;TZID=America/New_York:20260228T110000
DTEND;TZID=America/New_York:20260228T150000
DTSTAMP:20260423T075910
CREATED:20260218T214521Z
LAST-MODIFIED:20260218T214521Z
UID:14800-1772276400-1772290800@www.the-island-house.com
SUMMARY:Yellowbrunch: The R&B(eats) Edition
DESCRIPTION:Brunch just got a remix. \n\n\n\nJoin us for the R&B (Eats) Edition of our new brunch series\, Yellowbrunch\, on Saturday\, February 28\, from 11 am – 3 pm. Enjoy themed brunch dishes and specialty drink specials\, all set to sounds by DJ Beatz. \n\n\n\nReservations recommended.
URL:https://www.the-island-house.com/event/yellowbrunch-the-rbeats-edition/
LOCATION:Yellowbell\, The Island House\, Bahamas
CATEGORIES:Yellowbell
ATTACH;FMTTYPE=image/jpeg:https://www.the-island-house.com/wp-content/uploads/2026/02/yellowbrunch_rbeats_horizontal.jpg
ORGANIZER;CN="The Island House":MAILTO:events@the-island-house.com
END:VEVENT
BEGIN:VEVENT
DTSTART;TZID=America/New_York:20260228T210000
DTEND;TZID=America/New_York:20260301T000000
DTSTAMP:20260423T075910
CREATED:20260218T164422Z
LAST-MODIFIED:20260218T164422Z
UID:14777-1772312400-1772323200@www.the-island-house.com
SUMMARY:Mogano: after_dark
DESCRIPTION:New to The Amphitheater\, come enjoy the night under the stars at our all-new Mogano: After Dark DJ series.Saturday\, February 28\, from 9 PM to 12 AM\, with Ethan Knowles on the decks\, delivering a night of melodic house\, afro house\, and tech house vibes.Reservations not required.
URL:https://www.the-island-house.com/event/mogano-after_dark/
LOCATION:Amphitheater
CATEGORIES:Mogano
ATTACH;FMTTYPE=image/jpeg:https://www.the-island-house.com/wp-content/uploads/2026/02/Mog_AD3.jpg
ORGANIZER;CN="The Island House":MAILTO:events@the-island-house.com
END:VEVENT
END:VCALENDAR