BEGIN:VCALENDAR
VERSION:2.0
PRODID:-//The Island House - ECPv6.15.10//NONSGML v1.0//EN
CALSCALE:GREGORIAN
METHOD:PUBLISH
X-ORIGINAL-URL:https://www.the-island-house.com
X-WR-CALDESC:Events for The Island House
REFRESH-INTERVAL;VALUE=DURATION:PT1H
X-Robots-Tag:noindex
X-PUBLISHED-TTL:PT1H
BEGIN:VTIMEZONE
TZID:America/Halifax
BEGIN:DAYLIGHT
TZOFFSETFROM:-0400
TZOFFSETTO:-0300
TZNAME:ADT
DTSTART:20240310T060000
END:DAYLIGHT
BEGIN:STANDARD
TZOFFSETFROM:-0300
TZOFFSETTO:-0400
TZNAME:AST
DTSTART:20241103T050000
END:STANDARD
BEGIN:DAYLIGHT
TZOFFSETFROM:-0400
TZOFFSETTO:-0300
TZNAME:ADT
DTSTART:20250309T060000
END:DAYLIGHT
BEGIN:STANDARD
TZOFFSETFROM:-0300
TZOFFSETTO:-0400
TZNAME:AST
DTSTART:20251102T050000
END:STANDARD
BEGIN:DAYLIGHT
TZOFFSETFROM:-0400
TZOFFSETTO:-0300
TZNAME:ADT
DTSTART:20260308T060000
END:DAYLIGHT
BEGIN:STANDARD
TZOFFSETFROM:-0300
TZOFFSETTO:-0400
TZNAME:AST
DTSTART:20261101T050000
END:STANDARD
END:VTIMEZONE
BEGIN:VEVENT
DTSTART;TZID=America/Halifax:20251101T150000
DTEND;TZID=America/Halifax:20251101T200000
DTSTAMP:20260423T121212
CREATED:20251003T210904Z
LAST-MODIFIED:20251015T163414Z
UID:12213-1762009200-1762027200@www.the-island-house.com
SUMMARY:Spooky Saturday
DESCRIPTION:Join us on the lawn for some spooky snacks\, sweets\, and fun! Enjoy performances by the LCIS bands\, followed by a screening of Corpse Bride.
URL:https://www.the-island-house.com/event/spooky-saturday/
LOCATION:The Island House Lawn\, The Island House\, Nassau\, Bahamas
CATEGORIES:The Island House
ATTACH;FMTTYPE=image/jpeg:https://www.the-island-house.com/wp-content/uploads/2025/10/Artboard-2-1.jpg
END:VEVENT
BEGIN:VEVENT
DTSTART;TZID=America/Halifax:20251106T193000
DTEND;TZID=America/Halifax:20251106T213000
DTSTAMP:20260423T121212
CREATED:20251031T215835Z
LAST-MODIFIED:20251031T215835Z
UID:12967-1762457400-1762464600@www.the-island-house.com
SUMMARY:Unwinding Hour: Pineapple Down
DESCRIPTION:Come and enjoy some live music under the stars\, featuring Pineapple Down! The space will be alive with energy as this five-piece band returns for another fun\, feel-good set you won’t want to miss! \nUnwinding Hour\, Yellowbell’s legacy live music series\, is always free\, and reservations are not required. It’s the perfect setting to gather with friends\, relax\, and savor an evening of exceptional music. See you there!
URL:https://www.the-island-house.com/event/unwinding-hour-pineapple-down-2/
LOCATION:Yellowbell\, The Island House\, Bahamas
CATEGORIES:Yellowbell
ATTACH;FMTTYPE=image/jpeg:https://www.the-island-house.com/wp-content/uploads/2025/08/503495688_1116432193860153_3439810796532946103_n.jpg
ORGANIZER;CN="The Island House":MAILTO:events@the-island-house.com
END:VEVENT
BEGIN:VEVENT
DTSTART;TZID=America/Halifax:20251108T173000
DTEND;TZID=America/Halifax:20251108T210000
DTSTAMP:20260423T121212
CREATED:20251020T221008Z
LAST-MODIFIED:20251027T194546Z
UID:12711-1762623000-1762635600@www.the-island-house.com
SUMMARY:Island Pizza Kids Cinema: Freakier Friday
DESCRIPTION:Join us for our weekly family-friendly movie night at Island Pizza. So nice\, we had to do it twice. Tis’ the season for freaky as we screen Freakier Friday.  \nTwo decades after an identity crisis\, Anna’s blended family faces new challenges. Tess and Anna discover their past may be repeating with the next generation. \nThe movie showings here at Island Pizza are always free\, and reservations are not required. Come and enjoy with us!
URL:https://www.the-island-house.com/event/island-pizza-kids-cinema-freakier-friday/
LOCATION:Island Pizza\, The Island House
CATEGORIES:Island Pizza
ATTACH;FMTTYPE=image/webp:https://www.the-island-house.com/wp-content/uploads/2025/08/HO00003585.webp
ORGANIZER;CN="The Island House":MAILTO:events@the-island-house.com
END:VEVENT
BEGIN:VEVENT
DTSTART;TZID=America/Halifax:20251111T173000
DTEND;TZID=America/Halifax:20251111T213000
DTSTAMP:20260423T121212
CREATED:20251031T215627Z
LAST-MODIFIED:20251031T215627Z
UID:12964-1762882200-1762896600@www.the-island-house.com
SUMMARY:La Cocina Taco & Salsa Night
DESCRIPTION:Tacos\, tequila\, and Latin beats! Join us Tuesday\, November 11th\, at La Cocina at Yellowbell starting 5:30 PM for a night of flavor and fun. Perfectly paired with a margarita that packs a punch\, indulge in mouthwatering bites\, all while grooving to vibrant Latin rhythms! \nPut on your dancing shoes and join us for another fun evening under the open sky. Reservations are not required!
URL:https://www.the-island-house.com/event/la-cocina-taco-salsa-night-3/
LOCATION:Yellowbell\, The Island House\, Bahamas
CATEGORIES:Yellowbell
ATTACH;FMTTYPE=image/jpeg:https://www.the-island-house.com/wp-content/uploads/2025/10/MG_4177-Edit-scaled.jpg
END:VEVENT
BEGIN:VEVENT
DTSTART;TZID=America/Halifax:20251113T193000
DTEND;TZID=America/Halifax:20251113T213000
DTSTAMP:20260423T121212
CREATED:20251031T220306Z
LAST-MODIFIED:20251112T203753Z
UID:12969-1763062200-1763069400@www.the-island-house.com
SUMMARY:Unwinding Hour: Kael
DESCRIPTION:We welcome Kael—a powerhouse performer with smooth\, soulful vocals and unmatched stage presence. A true “singer’s singer\,” he’s guaranteed to captivate from the first note! \nUnwinding Hour\, Yellowbell’s legacy live music series\, is always free\, and reservations are not required. It’s the perfect setting to gather with friends\, relax\, and savor an evening of exceptional music. See you there!
URL:https://www.the-island-house.com/event/unwinding-hours-kael-2/
LOCATION:Yellowbell\, The Island House\, Bahamas
CATEGORIES:Yellowbell
ATTACH;FMTTYPE=image/png:https://www.the-island-house.com/wp-content/uploads/2024/11/Slide-16_9-4.png
END:VEVENT
BEGIN:VEVENT
DTSTART;TZID=America/Halifax:20251115T173000
DTEND;TZID=America/Halifax:20251115T210000
DTSTAMP:20260423T121212
CREATED:20251112T160000Z
LAST-MODIFIED:20251112T160000Z
UID:13177-1763227800-1763240400@www.the-island-house.com
SUMMARY:Island Pizza Kids Cinema: Wicked
DESCRIPTION:GET IN THE ‘WICKED’ SPIRIT\nJoin us this Saturday\, November 15th\, at 5:30 pm at Island Pizza as we screen ‘Wicked’ in preparation for the big release of the 2nd installment in this series. \nMisunderstood because of her green skin\, a young woman named Elphaba forges an unlikely but profound friendship with Glinda\, a student with an unflinching desire for popularity. Following an encounter with the Wizard of Oz\, their relationship soon reaches a crossroad as their lives begin to take very different paths \nThe movie showings here at Island Pizza are always free\, and reservations are not required. Come and enjoy with us!
URL:https://www.the-island-house.com/event/island-pizza-kids-cinema-wicked/
LOCATION:Island Pizza\, The Island House
CATEGORIES:Island Pizza
ATTACH;FMTTYPE=image/jpeg:https://www.the-island-house.com/wp-content/uploads/2025/10/WKD_TVSlide_1920x1080pxH_Reach_8.jpg
ORGANIZER;CN="The Island House":MAILTO:events@the-island-house.com
END:VEVENT
BEGIN:VEVENT
DTSTART;TZID=America/Halifax:20251120T190000
DTEND;TZID=America/Halifax:20251120T190000
DTSTAMP:20260423T121212
CREATED:20251106T214354Z
LAST-MODIFIED:20251119T193435Z
UID:13074-1763665200-1763665200@www.the-island-house.com
SUMMARY:Pio Cesare Wine Producer Dinner
DESCRIPTION:Join us for an exclusive Wine Pairing Dinner hosted by Cesare Benvenuto from the iconic Pio Cesare Winery in Alba\, Italy on Thursday\, November 20th at 7pm in Mogano’s intimate Wine Cellar. \nA 4-course tasting menu will be paired with the following selection of Pio Cesare wines: \n-Pio Cesare\, Gavi DOCG 2024\n-Pio Cesare\, “Rosy” Nebbiolo rosato 2023\n-Pio Cesare\, Barbera d’Alba\, DOC 2023\n-Pio Cesare\, Barbaresco PIO\, DOCG 2020\n-Pio Cesare\, Barolo PIO\, DOCG 2020 \nTo view the menu\, please click here.
URL:https://www.the-island-house.com/event/pio-cesare-wine-producer-dinner/
LOCATION:Mogano by Giorgio Locatelli\, Mahogany Hill\, Western Road\, Bahamas
CATEGORIES:Mogano
ATTACH;FMTTYPE=image/jpeg:https://www.the-island-house.com/wp-content/uploads/2025/11/Horizontal.jpg
ORGANIZER;CN="The Island House":MAILTO:events@the-island-house.com
END:VEVENT
BEGIN:VEVENT
DTSTART;TZID=America/Halifax:20251120T193000
DTEND;TZID=America/Halifax:20251120T213000
DTSTAMP:20260423T121212
CREATED:20251112T161602Z
LAST-MODIFIED:20251112T203745Z
UID:13182-1763667000-1763674200@www.the-island-house.com
SUMMARY:Unwinding Hour: alleoN Rose
DESCRIPTION:Join us on November 20th for Unwinding Hour with ‘alleoN Rose’ from 7:30 pm!‘alleoN Rose’ draws you in with her soulful indie sound\, characterized by rich\, emotive vocals that combine warmth with a bit of wry humor.No reservations are required\, and there is no cover charge.See you there!
URL:https://www.the-island-house.com/event/unwinding-hours-alleon-rose/
LOCATION:Yellowbell\, The Island House\, Bahamas
CATEGORIES:Yellowbell
ATTACH;FMTTYPE=image/png:https://www.the-island-house.com/wp-content/uploads/2024/11/Slide-16_9-2.png
END:VEVENT
BEGIN:VEVENT
DTSTART;TZID=America/Halifax:20251121T170000
DTEND;TZID=America/Halifax:20251121T213000
DTSTAMP:20260423T121212
CREATED:20251112T213316Z
LAST-MODIFIED:20251112T224838Z
UID:13193-1763744400-1763760600@www.the-island-house.com
SUMMARY:Windsor Jam Band
DESCRIPTION:Join us at Island Pizza on November 21st for the electrifying Windsor Jam Band from 6 to 8 p.m.\nWe can’t wait to see you there for a night of fantastic music and great vibes!
URL:https://www.the-island-house.com/event/windsor-jam-band/
ATTACH;FMTTYPE=image/jpeg:https://www.the-island-house.com/wp-content/uploads/2025/11/IMG_6776-scaled.jpg
END:VEVENT
BEGIN:VEVENT
DTSTART;TZID=America/Halifax:20251121T170000
DTEND;TZID=America/Halifax:20251121T220000
DTSTAMP:20260423T121212
CREATED:20251104T160744Z
LAST-MODIFIED:20251104T163414Z
UID:13011-1763744400-1763762400@www.the-island-house.com
SUMMARY:Sip & Shuck
DESCRIPTION:We are thrilled to invite you to our monthly Sip & Shuck experience at Shima. Join us Friday\, November 21st\, from 5 pm up on the Shima balcony for an extra special champagne and oyster pairing experience. \nDiscover the delightful combination of the crisp and elegant champagne and our freshly shucked oysters. We offer you the choice to enjoy them cold with red nam jim sauce or warm with chili jam and crispy shallots. \nReservations are not required; pop by and join us on our Poolside balcony.
URL:https://www.the-island-house.com/event/sip-shuck-2/
LOCATION:Shima\, The Island House\, Bahamas
CATEGORIES:Shima
ATTACH;FMTTYPE=image/jpeg:https://www.the-island-house.com/wp-content/uploads/2025/10/MG_4429-2-scaled.jpg
END:VEVENT
BEGIN:VEVENT
DTSTART;TZID=America/Halifax:20251122T173000
DTEND;TZID=America/Halifax:20251122T210000
DTSTAMP:20260423T121212
CREATED:20251112T212131Z
LAST-MODIFIED:20251112T212328Z
UID:13190-1763832600-1763845200@www.the-island-house.com
SUMMARY:Island Pizza Kids Cinema: Fantastic Four
DESCRIPTION:Join us for our weekly family-friendly movie night at Island Pizza. This weekend\, we’re screening the superhero installment\, Fantastic Four: First Steps. \nMister Fantastic\, Invisible Woman\, Human Torch and the Thing face their most daunting challenge yet as they defend Earth from Galactus and Silver Surfer. \nThe movie showings here at Island Pizza are always free\, and reservations are not required. Come and enjoy with us!
URL:https://www.the-island-house.com/event/island-pizza-kids-cinema-fantastic-four/
LOCATION:Island Pizza\, The Island House
CATEGORIES:Island Pizza
ATTACH;FMTTYPE=image/avif:https://www.the-island-house.com/wp-content/uploads/2025/11/et00432123-dfbjhgmmun-landscape.avif
ORGANIZER;CN="The Island House":MAILTO:events@the-island-house.com
END:VEVENT
BEGIN:VEVENT
DTSTART;TZID=America/Halifax:20251125T173000
DTEND;TZID=America/Halifax:20251125T213000
DTSTAMP:20260423T121212
CREATED:20251104T174709Z
LAST-MODIFIED:20251104T174709Z
UID:13031-1764091800-1764106200@www.the-island-house.com
SUMMARY:La Cocina Taco & Salsa Night
DESCRIPTION:Tacos\, tequila\, and Latin beats! Join us Tuesday\, November 25th\, at La Cocina at Yellowbell starting at 5:30 PM for a night of flavor and fun. Perfectly paired with a margarita that packs a punch\, indulge in mouthwatering bites\, all while grooving to vibrant Latin rhythms! \nPut on your dancing shoes and join us for another fun evening under the open sky. Reservations are not required!
URL:https://www.the-island-house.com/event/la-cocina-taco-salsa-night-4/
LOCATION:Yellowbell\, The Island House\, Bahamas
CATEGORIES:Yellowbell
ATTACH;FMTTYPE=image/jpeg:https://www.the-island-house.com/wp-content/uploads/2025/10/MG_4264-Edit-scaled.jpg
END:VEVENT
BEGIN:VEVENT
DTSTART;TZID=America/Halifax:20251127T130000
DTEND;TZID=America/Halifax:20251127T170000
DTSTAMP:20260423T121212
CREATED:20251022T175934Z
LAST-MODIFIED:20251104T174040Z
UID:12717-1764248400-1764262800@www.the-island-house.com
SUMMARY:Thanksgiving - At Home Catering Menu
DESCRIPTION:Chef Dan has once again curated a traditional Thanksgiving menu\, which will be ready for collection on Thanksgiving Day for you to enjoy at home surrounded by the ones you love. \nYou can choose between the full dinner option with all the trimmings and a complimentary bottle of wine\, or order your turkey\, ham\, and sides individually. Please click HERE to review the full menu\, and we kindly ask you to pre-order via the links below. \nCollection will be from The Island House Front Desk between the hours of 1- 5 pm on Thanksgiving Day. \nThe deadline for orders is 5 pm on Monday\, November 24th.\n\nOnce your order has been placed\, our catering team will be in touch to firstly confirm the time you would like to collect\, as well as follow up on any dietary requirements you may have. We ask you to please ensure the email and phone number you enter are the ones you would like to be contacted on. \nPlease note that refund requests will only be honoured 48 hours before the order deadline.\n(5 pm on 11.24)
URL:https://www.the-island-house.com/event/thanksgiving-at-home-catering-menu/
LOCATION:The Island House Front Desk\, Mahogany Hill\, Nassau\, Bahamas
CATEGORIES:Catering,The Island House
ATTACH;FMTTYPE=image/jpeg:https://www.the-island-house.com/wp-content/uploads/2025/10/Thanksgiving2025_AT_HOME_Header.jpg
ORGANIZER;CN="The Island House":MAILTO:events@the-island-house.com
END:VEVENT
BEGIN:VEVENT
DTSTART;TZID=America/Halifax:20251128T193000
DTEND;TZID=America/Halifax:20251128T213000
DTSTAMP:20260423T121212
CREATED:20251104T174839Z
LAST-MODIFIED:20251112T203738Z
UID:12996-1764358200-1764365400@www.the-island-house.com
SUMMARY:Unwinding Hour: Rum Dums
DESCRIPTION:The Rum Dums take you on a journey through sound\, weaving together jazz\, blues\, rock\, and reggae with nostalgic charm and fresh energy—shifting seamlessly from laid-back grooves to powerhouse anthems\, all fueled by their undeniable on-stage chemistry. \nUnwinding Hour\, Yellowbell’s legacy live music series\, is always free\, and reservations are not required. It’s the perfect setting to gather with friends\, relax\, and savor an evening of exceptional music. See you there!
URL:https://www.the-island-house.com/event/unwinding-hours-rum-dums-2/
LOCATION:Yellowbell\, The Island House\, Bahamas
CATEGORIES:Yellowbell
ATTACH;FMTTYPE=image/jpeg:https://www.the-island-house.com/wp-content/uploads/2025/08/IMG_7741-scaled.jpg
END:VEVENT
BEGIN:VEVENT
DTSTART;TZID=America/Halifax:20251129T210000
DTEND;TZID=America/Halifax:20251130T000000
DTSTAMP:20260423T121212
CREATED:20251104T175145Z
LAST-MODIFIED:20251112T160240Z
UID:13034-1764450000-1764460800@www.the-island-house.com
SUMMARY:Shima: After_Dark
DESCRIPTION:Our Shima balcony lights up once again for another After_Dark Session on Saturday\, November 29\, from 9 pm to 12 am.\n\n\n\nThis time\, we’re turning up the energy with Ethan Knowles on deck\, delivering a night of melodic house\, afro house\, and tech house vibes.\n\n\n\nNo reservations needed. See you under the stars!
URL:https://www.the-island-house.com/event/shima-after_dark-5/
LOCATION:Shima\, The Island House\, Bahamas
CATEGORIES:Shima
ATTACH;FMTTYPE=image/jpeg:https://www.the-island-house.com/wp-content/uploads/2025/11/SAD_Nov2-1.jpg
END:VEVENT
END:VCALENDAR