BEGIN:VCALENDAR
VERSION:2.0
PRODID:-//The Island House - ECPv6.15.10//NONSGML v1.0//EN
CALSCALE:GREGORIAN
METHOD:PUBLISH
X-ORIGINAL-URL:https://www.the-island-house.com
X-WR-CALDESC:Events for The Island House
REFRESH-INTERVAL;VALUE=DURATION:PT1H
X-Robots-Tag:noindex
X-PUBLISHED-TTL:PT1H
BEGIN:VTIMEZONE
TZID:America/Halifax
BEGIN:DAYLIGHT
TZOFFSETFROM:-0400
TZOFFSETTO:-0300
TZNAME:ADT
DTSTART:20240310T060000
END:DAYLIGHT
BEGIN:STANDARD
TZOFFSETFROM:-0300
TZOFFSETTO:-0400
TZNAME:AST
DTSTART:20241103T050000
END:STANDARD
BEGIN:DAYLIGHT
TZOFFSETFROM:-0400
TZOFFSETTO:-0300
TZNAME:ADT
DTSTART:20250309T060000
END:DAYLIGHT
BEGIN:STANDARD
TZOFFSETFROM:-0300
TZOFFSETTO:-0400
TZNAME:AST
DTSTART:20251102T050000
END:STANDARD
BEGIN:DAYLIGHT
TZOFFSETFROM:-0400
TZOFFSETTO:-0300
TZNAME:ADT
DTSTART:20260308T060000
END:DAYLIGHT
BEGIN:STANDARD
TZOFFSETFROM:-0300
TZOFFSETTO:-0400
TZNAME:AST
DTSTART:20261101T050000
END:STANDARD
END:VTIMEZONE
BEGIN:VEVENT
DTSTART;TZID=America/Halifax:20250320T180000
DTEND;TZID=America/Halifax:20250320T213000
DTSTAMP:20260424T165411
CREATED:20250225T175819Z
LAST-MODIFIED:20250317T200754Z
UID:8321-1742493600-1742506200@www.the-island-house.com
SUMMARY:Wine Pairing Dinner with Young's Fine Wine
DESCRIPTION:Mogano by Giorgio Locatelli in partnership with Young’s Fine Wine will be hosting an exclusive dinner featuring a selection of Italian wines on Thursday\, March 20th at 6pm. \nThe evening will begin with a glass of Miol Rosé Prosecco followed by 4 courses including Beef Tartare\, Venison filled Ravioli\, Veal Chop and profiteroles. Each course will be accompanied by a brief intro into the paired wine. \nPlease click HERE to view the wines and paired dishes. \nVegetarian options are available\, please email mogano@the-island-house.com for more information. \n  \n  \n 
URL:https://www.the-island-house.com/event/wine-pairing-dinner-with-youngs-fine-wine/
LOCATION:Mogano by Giorgio Locatelli\, Mahogany Hill\, Western Road\, Bahamas
CATEGORIES:Mogano by Giorgio Locatelli
ATTACH;FMTTYPE=image/png:https://www.the-island-house.com/wp-content/uploads/2025/02/Screen-Shot-2025-02-25-at-11.56.44-AM.png
ORGANIZER;CN="The Island House":MAILTO:events@the-island-house.com
END:VEVENT
BEGIN:VEVENT
DTSTART;TZID=America/Halifax:20250327T180000
DTEND;TZID=America/Halifax:20250327T201500
DTSTAMP:20260424T165411
CREATED:20250227T225551Z
LAST-MODIFIED:20250328T002746Z
UID:8292-1743098400-1743106500@www.the-island-house.com
SUMMARY:Old Fort Bay Club Wellness Speaker Series - Ben Azadi
DESCRIPTION:Join us at the Old Fort Bay Club for the next session in our Wellness Speaker Series hosted in collaboration with ‘LowTox Winner’. \nBen Azadi\, known as ‘The Health Detective’ will speak on how to bring your body back to normal function through intermittent fasting and a ketogenic diet. As the founder of Keto Kamp\, Ben has brought global awareness to ancient healing strategies which educate\, not medicate. \nThe lecture and Q&A will begin at 6pm in the OFB Club Pavilion. Light canapés and conversation will follow on the Pool Terrace. \nOFB Club Members: $130  |  Non-Members: $150 \n10% VAT will be added to all tickets at checkout.\nPlease note refund requests will only be honoured 48 hours prior to the event. \nAll attendees are welcome to join us in the Main Dining Room for a unique wellness dining experience after the talk (for an additional charge). Please contact the OFBC office to reserve 362-6433.
URL:https://www.the-island-house.com/event/old-fort-bay-club-wellness-speaker-series-ben-azadi/
LOCATION:Old Fort Bay Club\, Old Fort Bay\, West Bay Street\, Bahamas
ATTACH;FMTTYPE=image/jpeg:https://www.the-island-house.com/wp-content/uploads/2025/02/BA-headshot-scaled.jpg
END:VEVENT
BEGIN:VEVENT
DTSTART;TZID=America/Halifax:20250328T180000
DTEND;TZID=America/Halifax:20250328T193000
DTSTAMP:20260424T165411
CREATED:20250306T163655Z
LAST-MODIFIED:20250327T174358Z
UID:8413-1743184800-1743190200@www.the-island-house.com
SUMMARY:Tequila Tasting in The Bunker
DESCRIPTION:The hidden gem which we call ”The Bunker’ is going to finally be revealed as we begin hosting a series of intimate wine and sprit tastings throughout the coming months. Kicking off this special tasting series is a Tequila Tasting on March 28th. \nJoin us in The Bunker for an exclusive and informative evening as we discover the nuances behind a curated selection of tequilas from various regions in Mexico. Not only will you taste your way through these various brands\, but our mixologist will create a cocktail of your choice with your favourite tequila. \nThe Bahamian Brewery will co-host the event\, and a selection of paired bites by Chef Dan will accompany the evening. The tasting takes place between 6-7:30pm on Friday\, March 28th. \nPlease note refund requests will only be honoured 48 hours prior to the event.
URL:https://www.the-island-house.com/event/tequila-tasting-in-the-bunker/
LOCATION:The Bunker\, Bahamas
CATEGORIES:The Island House
ATTACH;FMTTYPE=image/jpeg:https://www.the-island-house.com/wp-content/uploads/2025/03/06d78789-f3a5-48b7-aba1-7f0a848ab4c0-scaled.jpg
ORGANIZER;CN="The Island House":MAILTO:events@the-island-house.com
END:VEVENT
END:VCALENDAR