BEGIN:VCALENDAR
VERSION:2.0
PRODID:-//The Island House - ECPv6.15.10//NONSGML v1.0//EN
CALSCALE:GREGORIAN
METHOD:PUBLISH
X-ORIGINAL-URL:https://www.the-island-house.com
X-WR-CALDESC:Events for The Island House
REFRESH-INTERVAL;VALUE=DURATION:PT1H
X-Robots-Tag:noindex
X-PUBLISHED-TTL:PT1H
BEGIN:VTIMEZONE
TZID:America/Halifax
BEGIN:DAYLIGHT
TZOFFSETFROM:-0400
TZOFFSETTO:-0300
TZNAME:ADT
DTSTART:20230312T060000
END:DAYLIGHT
BEGIN:STANDARD
TZOFFSETFROM:-0300
TZOFFSETTO:-0400
TZNAME:AST
DTSTART:20231105T050000
END:STANDARD
BEGIN:DAYLIGHT
TZOFFSETFROM:-0400
TZOFFSETTO:-0300
TZNAME:ADT
DTSTART:20240310T060000
END:DAYLIGHT
BEGIN:STANDARD
TZOFFSETFROM:-0300
TZOFFSETTO:-0400
TZNAME:AST
DTSTART:20241103T050000
END:STANDARD
BEGIN:DAYLIGHT
TZOFFSETFROM:-0400
TZOFFSETTO:-0300
TZNAME:ADT
DTSTART:20250309T060000
END:DAYLIGHT
BEGIN:STANDARD
TZOFFSETFROM:-0300
TZOFFSETTO:-0400
TZNAME:AST
DTSTART:20251102T050000
END:STANDARD
END:VTIMEZONE
BEGIN:VTIMEZONE
TZID:America/New_York
BEGIN:DAYLIGHT
TZOFFSETFROM:-0500
TZOFFSETTO:-0400
TZNAME:EDT
DTSTART:20230312T070000
END:DAYLIGHT
BEGIN:STANDARD
TZOFFSETFROM:-0400
TZOFFSETTO:-0500
TZNAME:EST
DTSTART:20231105T060000
END:STANDARD
BEGIN:DAYLIGHT
TZOFFSETFROM:-0500
TZOFFSETTO:-0400
TZNAME:EDT
DTSTART:20240310T070000
END:DAYLIGHT
BEGIN:STANDARD
TZOFFSETFROM:-0400
TZOFFSETTO:-0500
TZNAME:EST
DTSTART:20241103T060000
END:STANDARD
BEGIN:DAYLIGHT
TZOFFSETFROM:-0500
TZOFFSETTO:-0400
TZNAME:EDT
DTSTART:20250309T070000
END:DAYLIGHT
BEGIN:STANDARD
TZOFFSETFROM:-0400
TZOFFSETTO:-0500
TZNAME:EST
DTSTART:20251102T060000
END:STANDARD
END:VTIMEZONE
BEGIN:VEVENT
DTSTART;TZID=America/Halifax:20241105T170000
DTEND;TZID=America/Halifax:20241105T220000
DTSTAMP:20260424T224627
CREATED:20241024T222248Z
LAST-MODIFIED:20241111T163444Z
UID:5809-1730826000-1730844000@www.the-island-house.com
SUMMARY:Election Day Island Pizza Specials
DESCRIPTION:The team at Island Pizza is getting ready for a busy U.S. Election Night on Tuesday\, November 5th. We not only invite you pre-order your pizzas for a specific time\, but are also offering a selection of combos which will keep your watch night parties fueled. \nWe ask you pre-order by Sunday\, November 3rd @ 6pm. \nOnce your order has been placed\, our Island Pizza Team will be in touch to firstly confirm the type of pizza and wings flavor you would like\, as well as finalize your time of collection\, so we ask you to please add the email and phone number you can be contacted on in your payment info.
URL:https://www.the-island-house.com/event/election-day-island-pizza-specials/
CATEGORIES:Island Pizza
ATTACH;FMTTYPE=image/png:https://www.the-island-house.com/wp-content/uploads/2024/10/Screen-Shot-2024-10-28-at-1.13.06-PM.png
ORGANIZER;CN="The Island House":MAILTO:events@the-island-house.com
END:VEVENT
BEGIN:VEVENT
DTSTART;TZID=America/Halifax:20241107T193000
DTEND;TZID=America/Halifax:20241107T213000
DTSTAMP:20260424T224627
CREATED:20241106T210954Z
LAST-MODIFIED:20241106T210954Z
UID:5853-1731007800-1731015000@www.the-island-house.com
SUMMARY:Unwinding Hour: The Rum Dums
DESCRIPTION:The Rum Dums seamlessly blend classic rock\, reggae\, and blues\, effortlessly transitioning from laid-back\, jazzy blues to energetic rock anthems. Comprising Lupo Rubboli and Tommy Goodwin on guitars\, Senior Young on bass\, Ash Mackey on drums\, and Greg Demirjian on vocals and rhythm guitar\, this talented ensemble exudes a seasoned chemistry on stage. \nDon’t miss the opportunity to catch The Rum Dums live this Thursday\, from 7:30 to 9:30 PM\, on the Yellowbell terrace. Reservations are not required for Unwinding Hour and there is no cover charge. Join us!
URL:https://www.the-island-house.com/event/unwinding-hour-the-rum-dums/
LOCATION:Yellowbell\, The Island House\, Bahamas
ATTACH;FMTTYPE=image/png:https://www.the-island-house.com/wp-content/uploads/2024/11/Slide-16_9-1.png
END:VEVENT
BEGIN:VEVENT
DTSTART;TZID=America/Halifax:20241115T193000
DTEND;TZID=America/Halifax:20241115T213000
DTSTAMP:20260424T224627
CREATED:20241106T211905Z
LAST-MODIFIED:20241111T163233Z
UID:5856-1731699000-1731706200@www.the-island-house.com
SUMMARY:Unwinding Hour: alleoN Rose
DESCRIPTION:alleoN Rose captivates with her soulful indie sound on November 14 at Unwinding Hour\, blending rich\, emotive vocals with a mix of warmth and subtle wit. Her music invites listeners into a world of introspective storytelling\, where raw emotion meets a playful sense of humor. Don’t miss the chance to experience her unique blend of vulnerability and charm. \nJoin us from 7:30 to 9:30 PM on November 14. Unwinding Hour is free\, and reservations are not required. We look forward to welcoming you on the Yellowbell terrace.
URL:https://www.the-island-house.com/event/unwinding-hour-alleon-rose/
CATEGORIES:Yellowbell
ATTACH;FMTTYPE=image/png:https://www.the-island-house.com/wp-content/uploads/2024/11/Slide-16_9-2.png
END:VEVENT
BEGIN:VEVENT
DTSTART;TZID=America/Halifax:20241121T200000
DTEND;TZID=America/Halifax:20241121T220000
DTSTAMP:20260424T224627
CREATED:20241106T212609Z
LAST-MODIFIED:20241106T212609Z
UID:5860-1732219200-1732226400@www.the-island-house.com
SUMMARY:Unwinding Hour x TERN: DJ POLAR
DESCRIPTION:For a special edition of Unwinding Hour on November 21\, we team up with TERN Gallery to celebrate Bahamian visual artist April Bey’s afrofuturistic exhibition inspired by “Atlantica\,” an imaginative planet of empowerment and playful subversion. DJ POLAR will channel this theme with an afrobeats set\, blending hype rhythmic energy with otherworldly vibes that echo Bey’s visionary world.\n\nBey’s exhibition opening\, “I See All The Way Back To Where I’m Supposed To See\,” will run from 6-8 pm\, and guests are welcome to head up the hill to Yellowbell afterward for the DJ set\, a seamless transition from the gallery’s celebration to an immersive musical experience. This event is free\, and reservations are not required.\n\n\n\n\n 
URL:https://www.the-island-house.com/event/unwinding-hour-x-tern-dj-polar/
LOCATION:Yellowbell\, The Island House\, Bahamas
CATEGORIES:Yellowbell
ATTACH;FMTTYPE=image/png:https://www.the-island-house.com/wp-content/uploads/2024/11/Slide-16_9-3.png
END:VEVENT
BEGIN:VEVENT
DTSTART;TZID=America/Halifax:20241122T180000
DTEND;TZID=America/Halifax:20241122T193000
DTSTAMP:20260424T224627
CREATED:20241112T192310Z
LAST-MODIFIED:20241118T214830Z
UID:5985-1732298400-1732303800@www.the-island-house.com
SUMMARY:Antinori Wine Tasting
DESCRIPTION:On Friday\, November 22nd we are thrilled to be welcoming Andrea Totis from the esteemed Italian winery ‘Antinori’ for an exclusive wine tasting at the Mogano Bar. \nEach of the following wines will be paired with a small dish which enhances each wines’ individual flavor. \n– Pinot Grigio DOC\, Jermann\, 2022 –\n– Traminer Aromatico IGT\, Jermann\, 2021 –\n– Chianti Classico Riserva DOCG\, Antinori\, 2018 –\n– Barolo Bussia DOCG\, Prunotto\, 2018 – \nThe tasting in collaboration with Bristol Wines & Spirits is $75 plus VAT. Please note refund requests will only be honoured 48 hours prior to the event (5pm on 11.19) \n 
URL:https://www.the-island-house.com/event/antinori-wine-tasting/
LOCATION:Mogano by Giorgio Locatelli\, Mahogany Hill\, Western Road\, Bahamas
CATEGORIES:Mogano by Giorgio Locatelli
ATTACH;FMTTYPE=image/png:https://www.the-island-house.com/wp-content/uploads/2024/11/Screen-Shot-2024-11-12-at-11.23.20-AM.png
END:VEVENT
BEGIN:VEVENT
DTSTART;TZID=America/New_York:20241126T180000
DTEND;TZID=America/New_York:20241126T203000
DTSTAMP:20260424T224627
CREATED:20241108T185824Z
LAST-MODIFIED:20241125T165006Z
UID:5922-1732644000-1732653000@www.the-island-house.com
SUMMARY:Giorgio Locatelli Special Dinner
DESCRIPTION:Join us for an exclusive 4-course dinner hosted by Michelin-Starred Chef Giorgio Locatelli on Tuesday\, November 26th. \nPlease click HERE to review the full menu \nAs a special treat\, Jim Nixon’s curated all-vinyl set\, featuring a delightful blend of Italian jazz fusion\, bossa nova\, canzone Italiana\, and mediterranean lounge music will accompany the dinner. \nOnce your reservation is received\, our Mogano Team will be in touch to confirm desired seating time as well as the size of your dinner party. We ask you to please ensure the email and phone number you enter is the one you would like to be contacted on. \nPlease email mogano@the-island-house.com with any questions you may have. \nPricing is inclusive of gratuity\, VAT at 10% will be added to all bills.\nPlease note refund requests will only be honoured 48 hours prior to the dinner (5pm on 11.24).
URL:https://www.the-island-house.com/event/giorgio-locatelli-special-dinner/
LOCATION:Mogano by Giorgio Locatelli\, Mahogany Hill\, Western Road\, Bahamas
ATTACH;FMTTYPE=image/png:https://www.the-island-house.com/wp-content/uploads/2024/11/Screenshot-2024-11-08-at-12.52.52 PM.png
ORGANIZER;CN="The Island House":MAILTO:events@the-island-house.com
END:VEVENT
BEGIN:VEVENT
DTSTART;TZID=America/New_York:20241127T110000
DTEND;TZID=America/New_York:20241127T123000
DTSTAMP:20260424T224627
CREATED:20241112T201018Z
LAST-MODIFIED:20241112T201445Z
UID:5962-1732705200-1732710600@www.the-island-house.com
SUMMARY:Giorgio Locatelli Pasta Making Class
DESCRIPTION:On Wednesday\, November 27th at 11am you will have the opportunity to learn the art of pasta making from the Master Chef himself. \nProsecco and a charcuterie board will keep the spirits high during what is always a fun and engaging session. You will be able to take home your hand-cut pasta as well as a jar of our signature Mogano tomato pasta sauce to show off your new talent to the family. \nPlease note refund requests will only be honoured 48 hours prior to the event (5pm on 11.24) \n 
URL:https://www.the-island-house.com/event/giorgio-locatelli-pasta-making-class/
LOCATION:Mogano by Giorgio Locatelli\, Mahogany Hill\, Western Road\, Bahamas
CATEGORIES:Mogano by Giorgio Locatelli
ATTACH;FMTTYPE=image/jpeg:https://www.the-island-house.com/wp-content/uploads/2024/11/5597618f-7557-4eff-cc90-069e375debf8.jpeg
END:VEVENT
BEGIN:VEVENT
DTSTART;TZID=America/Halifax:20241128T130000
DTEND;TZID=America/Halifax:20241128T170000
DTSTAMP:20260424T224627
CREATED:20241107T192359Z
LAST-MODIFIED:20241112T164001Z
UID:5866-1732798800-1732813200@www.the-island-house.com
SUMMARY:Thanksgiving – Catering Menu
DESCRIPTION:Chef Dan has once again curated a traditional Thanksgiving menu which will be ready for collection on Thanksgiving Day for you to enjoy at home surrounded by the ones you love. \nYou can choose between the full dinner option with all the trimmings and complimentary bottle of wine\, or order your turkey\, ham and sides individually. Please click HERE to review the full menu and we kindly ask you to pre-order via the links below. \nCollection will be from The Island House Front Desk between the hours of 1-5pm on Thanksgiving Day. \nThe deadline for orders is 5pm on Monday\, November 25th. \nOnce your order has been placed\, our catering team will be in touch to firstly confirm the time you would like to collect\, as well as follow up on any dietary requirements you may have. We ask you to please ensure the email and phone number you enter is the one you would like to be contacted on. \nPlease note refund requests will only be honoured 48 prior to order deadline (5pm on 11.25)
URL:https://www.the-island-house.com/event/thanksgiving-catering-menu/
LOCATION:The Island House Front Desk\, Mahogany Hill\, Nassau\, Bahamas
CATEGORIES:Catering
ATTACH;FMTTYPE=image/png:https://www.the-island-house.com/wp-content/uploads/2024/11/Screenshot-2024-11-07-at-12.57.44 PM.png
ORGANIZER;CN="The Island House":MAILTO:events@the-island-house.com
END:VEVENT
BEGIN:VEVENT
DTSTART;TZID=America/Halifax:20241128T193000
DTEND;TZID=America/Halifax:20241128T213000
DTSTAMP:20260424T224627
CREATED:20241106T213227Z
LAST-MODIFIED:20241106T213227Z
UID:5863-1732822200-1732829400@www.the-island-house.com
SUMMARY:Unwinding Hour: Kael
DESCRIPTION:On November 28 at Yellowbell we welcome Kael\, a truly captivating performer praised for his assured stage presence and peerless tone. With smooth\, resonant vocals that command attention\, Kael’s artistry goes beyond entertainment—he embodies the very essence of a “singer’s singer\,” endowed with a profound depth of soul and impeccable skill. \nUnwinding Hour\, Yellowbell’s legacy live music series\, is always free\, and reservations are not required. It’s the perfect setting to gather with friends\, relax\, and savor an evening of exceptional music. See you there!
URL:https://www.the-island-house.com/event/unwinding-hour-kael-2/
LOCATION:Yellowbell\, The Island House\, Bahamas
CATEGORIES:Yellowbell
ATTACH;FMTTYPE=image/png:https://www.the-island-house.com/wp-content/uploads/2024/11/Slide-16_9-4.png
END:VEVENT
BEGIN:VEVENT
DTSTART;TZID=America/Halifax:20241130T210000
DTEND;TZID=America/Halifax:20241130T235900
DTSTAMP:20260424T224627
CREATED:20241111T233352Z
LAST-MODIFIED:20241111T233352Z
UID:5970-1733000400-1733011140@www.the-island-house.com
SUMMARY:Shima: AFTER_DARK with DJ NYUSZI and The Baron
DESCRIPTION:DJ NYUSZI is a master at energizing any crowd\, with a strong presence in the Bahamas’ nightlife with residencies at venues like Atlantis and Baha Mar resorts. Expect an electric set that blends mainstream appeal with his signature style. The Baron is known for his charisma\, fun energy\, and smooth\, genre-crossing mixes that focus on the groove. Specializing in house music across deep house\, funk\, afro\, tech\, and amapiano\, he’s all about creating an immersive\, danceable vibe that keeps the crowd moving.\n\nJoin us on the Shima balcony from 9 PM for a night of rhythm\, connection\, and pure sonic immersion. Arrive early\, bring friends\, and let DJ NYUSZI and The Baron keep the dance floor alive through the night.
URL:https://www.the-island-house.com/event/shima-after_dark-with-dj-nyuszi-and-the-baron/
LOCATION:Shima\, The Island House\, Bahamas
CATEGORIES:Shima
ATTACH;FMTTYPE=image/png:https://www.the-island-house.com/wp-content/uploads/2024/11/S_A_D_Nov_24_TV.png
END:VEVENT
END:VCALENDAR