BEGIN:VCALENDAR
VERSION:2.0
PRODID:-//The Island House - ECPv6.15.10//NONSGML v1.0//EN
CALSCALE:GREGORIAN
METHOD:PUBLISH
X-WR-CALNAME:The Island House
X-ORIGINAL-URL:https://www.the-island-house.com
X-WR-CALDESC:Events for The Island House
REFRESH-INTERVAL;VALUE=DURATION:PT1H
X-Robots-Tag:noindex
X-PUBLISHED-TTL:PT1H
BEGIN:VTIMEZONE
TZID:America/Halifax
BEGIN:DAYLIGHT
TZOFFSETFROM:-0400
TZOFFSETTO:-0300
TZNAME:ADT
DTSTART:20230312T060000
END:DAYLIGHT
BEGIN:STANDARD
TZOFFSETFROM:-0300
TZOFFSETTO:-0400
TZNAME:AST
DTSTART:20231105T050000
END:STANDARD
BEGIN:DAYLIGHT
TZOFFSETFROM:-0400
TZOFFSETTO:-0300
TZNAME:ADT
DTSTART:20240310T060000
END:DAYLIGHT
BEGIN:STANDARD
TZOFFSETFROM:-0300
TZOFFSETTO:-0400
TZNAME:AST
DTSTART:20241103T050000
END:STANDARD
BEGIN:DAYLIGHT
TZOFFSETFROM:-0400
TZOFFSETTO:-0300
TZNAME:ADT
DTSTART:20250309T060000
END:DAYLIGHT
BEGIN:STANDARD
TZOFFSETFROM:-0300
TZOFFSETTO:-0400
TZNAME:AST
DTSTART:20251102T050000
END:STANDARD
END:VTIMEZONE
BEGIN:VEVENT
DTSTART;TZID=America/Halifax:20241003T193000
DTEND;TZID=America/Halifax:20241003T213000
DTSTAMP:20260425T001340
CREATED:20240927T191451Z
LAST-MODIFIED:20240927T191451Z
UID:5507-1727983800-1727991000@www.the-island-house.com
SUMMARY:Unwinding Hour: SHAD FER
DESCRIPTION:Making his Unwinding Hour debut on October 3\, SHAD FER is a versatile recording artist\, songwriter\, and producer\, recognized for his diverse catalog\, including standout tracks like “Save Yourself” and “Too Much to Live For.” His fluid musical style combines pop influences with a creative drive to continually reinvent his sound. \nJoin us from 7:30 to 9:30 PM on the Yellowbell terrace\, where the evening’s live music will pair perfectly with our celebrated cocktail menu. No cover charge\, no reservations—just an ideal night to unwind with friends and enjoy great music. See you there!
URL:https://www.the-island-house.com/event/unwinding-hour-shad-fer/
LOCATION:Yellowbell\, The Island House\, Bahamas
CATEGORIES:Yellowbell
ATTACH;FMTTYPE=image/png:https://www.the-island-house.com/wp-content/uploads/2024/09/SHAD-FER_16x9.png
END:VEVENT
BEGIN:VEVENT
DTSTART;TZID=America/Halifax:20241010T193000
DTEND;TZID=America/Halifax:20241010T213000
DTSTAMP:20260425T001340
CREATED:20240927T192113Z
LAST-MODIFIED:20240927T192113Z
UID:5511-1728588600-1728595800@www.the-island-house.com
SUMMARY:Unwinding Hour: Dazzle Band
DESCRIPTION:Making their debut on October 10\, Dazzle Band is a newly formed group of seasoned musicians. Fronted by the charismatic Karrington McKenzie\, whose suave vocal stylings blend effortlessly with the band’s agile ensemble\, Dazzle Band promises to deliver a fresh and exciting performance. Their repertoire spans a variety of genres\, offering something for every music lover\, from smooth ballads to upbeat hits\, all with a signature flair. \nJoin us for Unwinding Hour on Thursday\, October 10\, from 7:30 to 9:30 PM on the Yellowbell terrace\, accompanied by our renowned cocktail selection. No cover charge or reservations needed. We look forward to seeing you there!
URL:https://www.the-island-house.com/event/unwinding-hour-dazzle-band/
LOCATION:Yellowbell\, The Island House\, Bahamas
CATEGORIES:Yellowbell
ATTACH;FMTTYPE=image/png:https://www.the-island-house.com/wp-content/uploads/2024/09/Dazzle-Band_16x9.png
END:VEVENT
BEGIN:VEVENT
DTSTART;TZID=America/Halifax:20241016T180000
DTEND;TZID=America/Halifax:20241016T193000
DTSTAMP:20260425T001340
CREATED:20241008T215957Z
LAST-MODIFIED:20241008T220453Z
UID:5574-1729101600-1729107000@www.the-island-house.com
SUMMARY:Taittinger Champagne Aperitif with Clement Wiart
DESCRIPTION:Enjoy a meet & greet with Clement Wiart the Taittinger Regional Brand Ambassador in The Market Wine Cellar at The Island House. \nWe will be pouring 2 of Taittingers’ Masterpieces paired with an exclusive artisan charcuterie board. \nThe evening will be hosted in partnership with Young’s Fine Wine. Reservations are required as space is limited.
URL:https://www.the-island-house.com/event/taittinger-champagne-aperitif-with-clement-wiart/
LOCATION:The Market\, The Island House\, Bahamas
CATEGORIES:The Market
ATTACH;FMTTYPE=image/png:https://www.the-island-house.com/wp-content/uploads/2024/10/Screenshot-2024-10-08-at-4.55.17 PM.png
ORGANIZER;CN="The Island House":MAILTO:events@the-island-house.com
END:VEVENT
BEGIN:VEVENT
DTSTART;TZID=America/Halifax:20241017T193000
DTEND;TZID=America/Halifax:20241017T213000
DTSTAMP:20260425T001340
CREATED:20240927T194531Z
LAST-MODIFIED:20240927T194531Z
UID:5514-1729193400-1729200600@www.the-island-house.com
SUMMARY:Unwinding Hour: Kael
DESCRIPTION:Kael is an exceptional vocalist\, known for his rich\, soulful depth and remarkable vocal technique. His ability to connect with audiences and deliver emotionally charged performances sets him apart as a standout in our live music lineup. With a unique blend of passion and precision\, Kael brings a captivating energy to every performance\, making him a must-see for any music lover. \nJoin us for Unwinding Hour on Thursday\, from 7:30 to 9:30 PM on the Yellowbell terrace\, where live music is paired perfectly with our renowned cocktail selection. No cover charge\, no reservations required—just a perfect evening of live music\, great company\, and relaxation. See you there!
URL:https://www.the-island-house.com/event/unwinding-hour-kael/
LOCATION:Yellowbell\, The Island House\, Bahamas
CATEGORIES:Yellowbell
ATTACH;FMTTYPE=image/png:https://www.the-island-house.com/wp-content/uploads/2024/09/Kael_16x9.png
END:VEVENT
BEGIN:VEVENT
DTSTART;TZID=America/Halifax:20241024T193000
DTEND;TZID=America/Halifax:20241024T213000
DTSTAMP:20260425T001340
CREATED:20240927T195049Z
LAST-MODIFIED:20240927T195337Z
UID:5517-1729798200-1729805400@www.the-island-house.com
SUMMARY:Unwinding Hour: Resident Danielle Lee
DESCRIPTION:Danielle Lee\, a powerhouse vocalist with a wide-ranging repertoire\, will take the stage on October 24 for an unforgettable evening. Classically trained but equally at home in genres like R&B\, jazz\, and pop\, Danielle captivates audiences with her versatile voice and magnetic stage presence. Whether delivering a soulful ballad or an upbeat crowd-pleaser\, her performance is sure to leave a lasting impression. \nJoin us for Unwinding Hour on Thursday\, October 24\, from 7:30 to 9:30 PM on the Yellowbell terrace. Enjoy Danielle’s stunning performance alongside our signature cocktail menu. No cover charge\, no reservations required—just a perfect night to unwind\, enjoy the music\, and relax with friends. See you there!
URL:https://www.the-island-house.com/event/unwinding-hour-resident-danielle-lee-3/
LOCATION:Yellowbell\, The Island House\, Bahamas
CATEGORIES:Yellowbell
ATTACH;FMTTYPE=image/png:https://www.the-island-house.com/wp-content/uploads/2024/09/Danielle-Lee_16x9-1.png
END:VEVENT
BEGIN:VEVENT
DTSTART;TZID=America/Halifax:20241030T190000
DTEND;TZID=America/Halifax:20241030T210000
DTSTAMP:20260425T001340
CREATED:20241016T213503Z
LAST-MODIFIED:20241028T164932Z
UID:5676-1730314800-1730322000@www.the-island-house.com
SUMMARY:Roots & Rhythm – Giveton & Friends Jazz Concert
DESCRIPTION:Join us at The Island House Jazz Club on October 30\, 2024\, at 7:00 PM for “Roots & Rhythm: Caribbean Soul Meets Jazz Standards.” This special evening brings together TIH Resident Artist Giveton Gelin on trumpet\, Kirsten Cox on guitar\, Adrian D’Aguilar on double bass\, and Neil Symonette on percussion for a dynamic performance that blends classic jazz standards with the rich\, soulful rhythms of the Caribbean.\n\nAccompanying the music is an exquisite multi-course dining experience\, crafted to elevate the evening’s atmosphere with a fusion of flavors as vibrant as the sounds on stage. Immerse yourself in a night where jazz traditions meet island soul in a celebration of sound\, rhythm\, and taste.
URL:https://www.the-island-house.com/event/roots-rhythm-giveton-friends-jazz-concert/
LOCATION:The Island House Jazz Club\, Mahogany Hill\, Western Road\, Nassau\, Bahamas
CATEGORIES:Jazz Club
ATTACH;FMTTYPE=image/png:https://www.the-island-house.com/wp-content/uploads/2024/10/Unknown-3.png
ORGANIZER;CN="The Island House":MAILTO:events@the-island-house.com
END:VEVENT
BEGIN:VEVENT
DTSTART;TZID=America/Halifax:20241031T193000
DTEND;TZID=America/Halifax:20241031T213000
DTSTAMP:20260425T001340
CREATED:20240927T195750Z
LAST-MODIFIED:20240927T195750Z
UID:5520-1730403000-1730410200@www.the-island-house.com
SUMMARY:Unwinding Hour: Resident JTay
DESCRIPTION:Get ready for a special Halloween edition of Unwinding Hour with JTay on October 31! Known for his electrifying blend of R&B\, Hip-Hop\, and Soul\, JTay brings a unique twist to every performance by singing and playing drums simultaneously—a talent that adds extra energy and excitement to his set. For this Halloween-inspired show\, expect a mix of thrilling grooves and hauntingly good tunes. \nJoin us on the Yellowbell terrace from 7:30 to 9:30 PM for a spooky evening of live music and signature cocktails. No cover charge\, no reservations required—just a fun-filled night to relax\, enjoy the music\, and celebrate Halloween with great company. See you there\, if you dare!
URL:https://www.the-island-house.com/event/unwinding-hour-resident-jtay-3/
LOCATION:Yellowbell\, The Island House\, Bahamas
CATEGORIES:Yellowbell
ATTACH;FMTTYPE=image/png:https://www.the-island-house.com/wp-content/uploads/2024/09/JTay_16x9-1.png
END:VEVENT
END:VCALENDAR