BEGIN:VCALENDAR
VERSION:2.0
PRODID:-//The Island House - ECPv6.15.10//NONSGML v1.0//EN
CALSCALE:GREGORIAN
METHOD:PUBLISH
X-WR-CALNAME:The Island House
X-ORIGINAL-URL:https://www.the-island-house.com
X-WR-CALDESC:Events for The Island House
REFRESH-INTERVAL;VALUE=DURATION:PT1H
X-Robots-Tag:noindex
X-PUBLISHED-TTL:PT1H
BEGIN:VTIMEZONE
TZID:America/Halifax
BEGIN:DAYLIGHT
TZOFFSETFROM:-0400
TZOFFSETTO:-0300
TZNAME:ADT
DTSTART:20230312T060000
END:DAYLIGHT
BEGIN:STANDARD
TZOFFSETFROM:-0300
TZOFFSETTO:-0400
TZNAME:AST
DTSTART:20231105T050000
END:STANDARD
BEGIN:DAYLIGHT
TZOFFSETFROM:-0400
TZOFFSETTO:-0300
TZNAME:ADT
DTSTART:20240310T060000
END:DAYLIGHT
BEGIN:STANDARD
TZOFFSETFROM:-0300
TZOFFSETTO:-0400
TZNAME:AST
DTSTART:20241103T050000
END:STANDARD
BEGIN:DAYLIGHT
TZOFFSETFROM:-0400
TZOFFSETTO:-0300
TZNAME:ADT
DTSTART:20250309T060000
END:DAYLIGHT
BEGIN:STANDARD
TZOFFSETFROM:-0300
TZOFFSETTO:-0400
TZNAME:AST
DTSTART:20251102T050000
END:STANDARD
END:VTIMEZONE
BEGIN:VTIMEZONE
TZID:UTC
BEGIN:STANDARD
TZOFFSETFROM:+0000
TZOFFSETTO:+0000
TZNAME:UTC
DTSTART:20230101T000000
END:STANDARD
END:VTIMEZONE
BEGIN:VEVENT
DTSTART;TZID=America/Halifax:20240821T103000
DTEND;TZID=America/Halifax:20240821T113000
DTSTAMP:20260420T141010
CREATED:20240724T165549Z
LAST-MODIFIED:20240729T135120Z
UID:4363-1724236200-1724239800@www.the-island-house.com
SUMMARY:Kids Music Time with Miss Tahira – August 21
DESCRIPTION:The lovely Miss Tahira is bringing her infant music circle to TIH this summer! \nSound\, movement and song accompanied with various instruments will bring your kids joy in this 1 hour session. \nFor kids up to 3 years old\, and they must be accompanied by an adult.\nThe session will take place in the Movement Studio. \n 
URL:https://www.the-island-house.com/event/kids-music-time-with-miss-tahira-august-14-2/
LOCATION:Movement Studio
CATEGORIES:The Island House
ATTACH;FMTTYPE=image/jpeg:https://www.the-island-house.com/wp-content/uploads/2024/07/IMG_2866.jpg
ORGANIZER;CN="The Island House":MAILTO:events@the-island-house.com
END:VEVENT
BEGIN:VEVENT
DTSTART;TZID=America/Halifax:20240815T193000
DTEND;TZID=America/Halifax:20240815T213000
DTSTAMP:20260420T141010
CREATED:20240730T180721Z
LAST-MODIFIED:20240730T180721Z
UID:4478-1723750200-1723757400@www.the-island-house.com
SUMMARY:Unwinding Hour: Stazzie
DESCRIPTION:Join us on Thursday\, August 15th\, for an unforgettable evening of music on the Yellowbell Terrace. Pop artist Stazzie\, a beloved favorite among our patrons\, will be performing\, and fans are in for a special treat as she will be joined by the renowned British jazz bassist Paul Jefferies. Feel free to grab a signature craft cocktail from the bar and pull up a seat. Reservations are not required\, and there is no cover charge.
URL:https://www.the-island-house.com/event/unwinding-hour-stazzie-2/
CATEGORIES:Yellowbell
ATTACH;FMTTYPE=image/png:https://www.the-island-house.com/wp-content/uploads/2024/07/Stazzie_16x9.png
END:VEVENT
BEGIN:VEVENT
DTSTART;TZID=America/Halifax:20240814T103000
DTEND;TZID=America/Halifax:20240814T113000
DTSTAMP:20260420T141010
CREATED:20240724T165435Z
LAST-MODIFIED:20240724T165443Z
UID:4360-1723631400-1723635000@www.the-island-house.com
SUMMARY:Kids Music Time with Miss Tahira – August 14
DESCRIPTION:The lovely Miss Tahira is bringing her infant music circle to TIH this summer! \nSound\, movement and song accompanied with various instruments will bring your kids joy in this 1 hour session. \nFor kids up to 3 years old\, and they must be accompanied by an adult.\nThe session will take place in the Movement Studio. \n 
URL:https://www.the-island-house.com/event/kids-music-time-with-miss-tahira-august-14/
LOCATION:Movement Studio
CATEGORIES:The Island House
ATTACH;FMTTYPE=image/jpeg:https://www.the-island-house.com/wp-content/uploads/2024/07/IMG_2866.jpg
ORGANIZER;CN="The Island House":MAILTO:events@the-island-house.com
END:VEVENT
BEGIN:VEVENT
DTSTART;TZID=America/Halifax:20240812T120000
DTEND;TZID=America/Halifax:20240812T133000
DTSTAMP:20260420T141010
CREATED:20240724T213504Z
LAST-MODIFIED:20240724T213504Z
UID:4367-1723464000-1723469400@www.the-island-house.com
SUMMARY:Kids Sushi Making Workshop
DESCRIPTION:After the success of our first class we are hosting our second in the series of learning the craft of making Sushi with Chef Mickey and Chef Ronan at Shima. \nKids will learn the whole process beginning with cooking and seasoning the rice\, on to rolling the sushi in various forms. \nThe workshop is $60 +VAT.\nFor kids 6+
URL:https://www.the-island-house.com/event/kids-sushi-making-workshop-2/
LOCATION:Shima\, The Island House\, Bahamas
CATEGORIES:Shima
ATTACH;FMTTYPE=image/jpeg:https://www.the-island-house.com/wp-content/uploads/2024/07/IMG_3020.jpg
ORGANIZER;CN="The Island House":MAILTO:events@the-island-house.com
END:VEVENT
BEGIN:VEVENT
DTSTART;TZID=America/Halifax:20240808T193000
DTEND;TZID=America/Halifax:20240808T213000
DTSTAMP:20260420T141010
CREATED:20240730T175801Z
LAST-MODIFIED:20240730T175816Z
UID:4473-1723145400-1723152600@www.the-island-house.com
SUMMARY:Unwinding Hour: Selah Moonie
DESCRIPTION:Selah Moonie and her band\, The Liberation Village\, have just released their new single\, “All I Want Is You\,” to critical acclaim. On Thursday\, August 8\, they will perform a bass-heavy mix of jazz\, funk\, and rake ‘n’ scrape on the Yellowbell terrace. Join us at Unwinding Hour and enjoy a specially crafted cocktail while you take in this dynamic set.
URL:https://www.the-island-house.com/event/4473/
LOCATION:Yellowbell\, The Island House\, Bahamas
CATEGORIES:Yellowbell
ATTACH;FMTTYPE=image/png:https://www.the-island-house.com/wp-content/uploads/2024/07/The-Village-Band_16x9.png
END:VEVENT
BEGIN:VEVENT
DTSTART;TZID=America/Halifax:20240807T103000
DTEND;TZID=America/Halifax:20240807T113000
DTSTAMP:20260420T141010
CREATED:20240724T165309Z
LAST-MODIFIED:20240807T145654Z
UID:4357-1723026600-1723030200@www.the-island-house.com
SUMMARY:Kids Music Time with Miss Tahira – August 7
DESCRIPTION:The lovely Miss Tahira is bringing her infant music circle to TIH this summer! \nSound\, movement and song accompanied with various instruments will bring your kids joy in this 1 hour session. \nFor kids up to 3 years old\, and they must be accompanied by an adult.\nThe session will take place in the Movement Studio. \n 
URL:https://www.the-island-house.com/event/kids-music-time-with-miss-tahira-august-7/
LOCATION:Movement Studio
CATEGORIES:The Island House
ATTACH;FMTTYPE=image/jpeg:https://www.the-island-house.com/wp-content/uploads/2024/07/IMG_2866.jpg
ORGANIZER;CN="The Island House":MAILTO:events@the-island-house.com
END:VEVENT
BEGIN:VEVENT
DTSTART;TZID=America/Halifax:20240801T193000
DTEND;TZID=America/Halifax:20240801T213000
DTSTAMP:20260420T141010
CREATED:20240730T174847Z
LAST-MODIFIED:20240730T175858Z
UID:4469-1722540600-1722547800@www.the-island-house.com
SUMMARY:Unwinding Hour: Resident Danielle Lee
DESCRIPTION:Join us on Thursday\, August 1 as Danielle Lee is ready to enchant once more with her brilliant vocal chops\, deftly weaving through R&B\, pop\, and jazz. Leveraging her residency at The Island House\, she’s cooking up new ways to infuse her performances with unexpected styles\, drawing from her rich background in opera and art song.
URL:https://www.the-island-house.com/event/unwinding-hour-resident-danielle-lee/
LOCATION:Yellowbell\, The Island House\, Bahamas
CATEGORIES:Yellowbell
ATTACH;FMTTYPE=image/jpeg:https://www.the-island-house.com/wp-content/uploads/2024/07/Danielle-Lee_shot-by-Blair-Meadows_03-scaled.jpg
END:VEVENT
BEGIN:VEVENT
DTSTART;TZID=America/Halifax:20240731T103000
DTEND;TZID=America/Halifax:20240731T113000
DTSTAMP:20260420T141010
CREATED:20240724T164742Z
LAST-MODIFIED:20240731T134916Z
UID:4351-1722421800-1722425400@www.the-island-house.com
SUMMARY:Kids Music Time with Miss Tahira – July 31
DESCRIPTION:The lovely Miss Tahira is bringing her infant music circle to TIH this summer! \nSound\, movement and song accompanied with various instruments will bring your kids joy in this 1 hour session. \nFor kids up to 3 years old\, and they must be accompanied by an adult.\nThe session will take place in the Movement Studio. \n 
URL:https://www.the-island-house.com/event/kids-music-time-with-miss-tahira-july-31/
LOCATION:Movement Studio
CATEGORIES:The Island House
ATTACH;FMTTYPE=image/jpeg:https://www.the-island-house.com/wp-content/uploads/2024/07/IMG_2866.jpg
ORGANIZER;CN="The Island House":MAILTO:events@the-island-house.com
END:VEVENT
BEGIN:VEVENT
DTSTART;TZID=America/Halifax:20240730T120000
DTEND;TZID=America/Halifax:20240730T133000
DTSTAMP:20260420T141010
CREATED:20240626T181656Z
LAST-MODIFIED:20240730T142855Z
UID:3499-1722340800-1722346200@www.the-island-house.com
SUMMARY:Kids Pizza Making Workshop
DESCRIPTION:Our fun pizza making classes at Mogano by Giorgio Locatelli are back! \nBring the kids out this summer to learn how to make their very own pizza which they can enjoy at the end of the workshop. \nThe session includes instruction\, a pizza\, cup of juice and scoop of gelato as well as a 50% discount voucher for their next pizza. \nFor kids ages 6+.
URL:https://www.the-island-house.com/event/kids-pizza-making-workshop/
LOCATION:Mogano by Giorgio Locatelli\, Mahogany Hill\, Western Road\, Bahamas
CATEGORIES:Mogano
ATTACH;FMTTYPE=image/png:https://www.the-island-house.com/wp-content/uploads/2024/06/Screenshot-2024-07-22-at-10.58.50 AM.png
ORGANIZER;CN="The Island House":MAILTO:events@the-island-house.com
END:VEVENT
BEGIN:VEVENT
DTSTART;TZID=America/Halifax:20240725T200000
DTEND;TZID=America/Halifax:20240725T220000
DTSTAMP:20260420T141010
CREATED:20240625T185357Z
LAST-MODIFIED:20240625T193101Z
UID:3457-1721937600-1721944800@www.the-island-house.com
SUMMARY:Unwinding Hour: Resident JTay
DESCRIPTION:Join us on the Yellowbell terrace on July 25\, from 8-10 p.m.\, for resident artist JTay. His performances offer an exciting integration of his dual musical talents as a skilled drummer and captivating vocalist. You can expect a well-paced set that fuses jazz\, R&B\, rake ’n scrape\, and soul for a rhythmic sonic experience.
URL:https://www.the-island-house.com/event/unwinding-hour-resident-jtay/
LOCATION:Yellowbell\, The Island House\, Bahamas
CATEGORIES:Yellowbell
ATTACH;FMTTYPE=image/jpeg:https://www.the-island-house.com/wp-content/uploads/2024/06/JTay_shot-by-Blair-Meadows_09-scaled.jpg
END:VEVENT
BEGIN:VEVENT
DTSTART;TZID=America/Halifax:20240724T103000
DTEND;TZID=America/Halifax:20240724T113000
DTSTAMP:20260420T141010
CREATED:20240626T203657Z
LAST-MODIFIED:20240724T151852Z
UID:3514-1721817000-1721820600@www.the-island-house.com
SUMMARY:Kids Music Time with Miss Tahira – July 24
DESCRIPTION:The lovely Miss Tahira is bringing her infant music circle to TIH this summer! \nSound\, movement and song accompanied with various instruments will bring your kids joy in this 1 hour session. \nFor kids up to 5 years old\, and they must be accompanied by an adult.\nThe session will take place in the Meeting Room. \n 
URL:https://www.the-island-house.com/event/kids-music-time-with-miss-tahira-july-24/
LOCATION:The Island House Meeting Room\, Mahogany Hill\, Western Road\, Bahamas
CATEGORIES:The Island House
ATTACH;FMTTYPE=image/png:https://www.the-island-house.com/wp-content/uploads/2024/06/Screenshot-2024-06-26-at-3.23.49 PM.png
ORGANIZER;CN="The Island House":MAILTO:events@the-island-house.com
END:VEVENT
BEGIN:VEVENT
DTSTART;TZID=America/Halifax:20240722T120000
DTEND;TZID=America/Halifax:20240722T133000
DTSTAMP:20260420T141010
CREATED:20240626T180453Z
LAST-MODIFIED:20240626T180453Z
UID:3494-1721649600-1721655000@www.the-island-house.com
SUMMARY:Kids Sushi Making Workshop
DESCRIPTION:Discover the craft of making Sushi with Chef Mickey and Chef Ronan at Shima. \nKids will learn the whole process beginning with cooking and seasoning the rice\, on to rolling the sushi in various forms. \nThe session will end with the kids enjoying a plate of sushi which will include Chicken and Shrimp Tempura Rolls and Cucumber/Avocado Maki Rolls followed by a scoop of coconut sorbet and juice. \nThe workshop is $60 +VAT.\nFor kids 6+
URL:https://www.the-island-house.com/event/kids-sushi-making-workshop/
LOCATION:Shima\, The Island House\, Bahamas
CATEGORIES:Shima
ATTACH;FMTTYPE=image/png:https://www.the-island-house.com/wp-content/uploads/2024/06/Screenshot-2024-06-26-at-12.38.26 PM.png
ORGANIZER;CN="The Island House":MAILTO:events@the-island-house.com
END:VEVENT
BEGIN:VEVENT
DTSTART;TZID=America/Halifax:20240719T180000
DTEND;TZID=America/Halifax:20240719T193000
DTSTAMP:20260420T141010
CREATED:20240702T183126Z
LAST-MODIFIED:20240719T203550Z
UID:3677-1721412000-1721417400@www.the-island-house.com
SUMMARY:Jackson Family Wines – Tasting & Pairing Experience
DESCRIPTION:Join us in welcoming the team from Jackson Family Wines to The Bahamas as we host a Wine Pairing Experience in collaboration with Young’s Fine Wine at Mogano by Giorgio Locatelli. \nThe following 4 wines will be paired and enjoyed with a tasting plate:\n– Cambria Chardonnay\, Santa Barbara\n– Freemark Abbey Chardonnay\, Napa Valley\n– Cambria Pinot Noir\, Santa Barbara\n– Freemark Abbey Cabernet Sauvignon\, Napa Valley \nThe experience begins punctually at 6pm.
URL:https://www.the-island-house.com/event/jackson-family-wines-tasting-pairing-experience/
LOCATION:Mogano by Giorgio Locatelli\, Mahogany Hill\, Western Road\, Bahamas
CATEGORIES:Mogano by Giorgio Locatelli
ATTACH;FMTTYPE=image/png:https://www.the-island-house.com/wp-content/uploads/2024/07/Screenshot-2024-07-02-at-1.02.30 PM.png
ORGANIZER;CN="The Island House":MAILTO:events@the-island-house.com
END:VEVENT
BEGIN:VEVENT
DTSTART;TZID=America/Halifax:20240718T193000
DTEND;TZID=America/Halifax:20240718T213000
DTSTAMP:20260420T141010
CREATED:20240625T184920Z
LAST-MODIFIED:20240625T193342Z
UID:3454-1721331000-1721338200@www.the-island-house.com
SUMMARY:Unwinding Hour: Stazzie
DESCRIPTION:Mark your calendars for a special evening on July 18th as beloved vocalist Stazzie returns to grace the Yellowbell terrace with her polished mezzo-soprano. Her repertoire\, a sultry blend of R&B\, dance\, disco\, and pop\, spans from powerful ballads to infectious dance tracks. Stazzie\, whose early roots in music began as a DJ\, brings a selector’s keen sense of set curation and deep groove sensibility even to her vocal performances.
URL:https://www.the-island-house.com/event/unwinding-hour-stazzie/
LOCATION:Yellowbell\, The Island House\, Bahamas
CATEGORIES:Yellowbell
ATTACH;FMTTYPE=image/png:https://www.the-island-house.com/wp-content/uploads/2024/06/Stazzie_wide.png
END:VEVENT
BEGIN:VEVENT
DTSTART;TZID=America/Halifax:20240717T103000
DTEND;TZID=America/Halifax:20240717T113000
DTSTAMP:20260420T141010
CREATED:20240626T203545Z
LAST-MODIFIED:20240716T222635Z
UID:3508-1721212200-1721215800@www.the-island-house.com
SUMMARY:Kids Music Time with Miss Tahira – July 17
DESCRIPTION:The lovely Miss Tahira is bringing her infant music circle to TIH this summer! \nSound\, movement and song accompanied with various instruments will bring your kids joy in this 1 hour session. \nFor kids up to 5 years old\, and they must be accompanied by an adult.\nThe session will take place in the Meeting Room. \n 
URL:https://www.the-island-house.com/event/kids-music-time-with-miss-tahira/
LOCATION:The Island House Meeting Room\, Mahogany Hill\, Western Road\, Bahamas
CATEGORIES:The Island House
ATTACH;FMTTYPE=image/png:https://www.the-island-house.com/wp-content/uploads/2024/06/Screenshot-2024-06-26-at-3.23.49 PM.png
ORGANIZER;CN="The Island House":MAILTO:events@the-island-house.com
END:VEVENT
BEGIN:VEVENT
DTSTART;TZID=America/Halifax:20240713T190000
DTEND;TZID=America/Halifax:20240713T233000
DTSTAMP:20260420T141010
CREATED:20240625T192432Z
LAST-MODIFIED:20240715T141403Z
UID:3460-1720897200-1720913400@www.the-island-house.com
SUMMARY:A lil' Ta-do
DESCRIPTION:You are invited to join us for our second annual “A Lil’ Ta-do” in celebration of Bahamian craft this Independence! \nEnjoy an electrifying performance by The Essence Band\, followed by a DJ set that will keep you dancing into the night. The evening will culminate in an epic Junkanoo rush-out to end the festivities with a bang. \nAdvance tickets are $50 per person and $75 at the door. Bahamian food and drinks will be available for purchase throughout the event. \nDon’t miss out on this unforgettable night of music\, dance\, and Bahamian culture! \nCancellation of tickets only accepted up to 48 hours in advance of event begin.
URL:https://www.the-island-house.com/event/a-lil-ta-do/
LOCATION:Yellowbell\, The Island House\, Bahamas
CATEGORIES:Yellowbell
ATTACH;FMTTYPE=image/jpeg:https://www.the-island-house.com/wp-content/uploads/2024/06/ALTD_2024_FIN.jpg
ORGANIZER;CN="The Island House":MAILTO:events@the-island-house.com
END:VEVENT
BEGIN:VEVENT
DTSTART;TZID=America/Halifax:20240704T193000
DTEND;TZID=America/Halifax:20240704T213000
DTSTAMP:20260420T141010
CREATED:20240625T184329Z
LAST-MODIFIED:20240625T184434Z
UID:3449-1720121400-1720128600@www.the-island-house.com
SUMMARY:Unwinding Hour: Foreign Sound
DESCRIPTION:Join us on July 4 from 7:30 to 9:30 pm for a live music set by local indie/alternative rock band Foreign Sound. Known for their eclectic blend of jangly guitars and musing lyrics\, their original music is a nod to the post-punk revival\, evoking nostalgia with a contemporary twist. \nUnwinding Hour is cover-free and there is no reservation required.
URL:https://www.the-island-house.com/event/unwinding-hour-foreign-sound/
LOCATION:Yellowbell\, The Island House\, Bahamas
ATTACH;FMTTYPE=image/png:https://www.the-island-house.com/wp-content/uploads/2024/06/Foreign-Sound_wide.png
END:VEVENT
BEGIN:VEVENT
DTSTART;TZID=America/Halifax:20240703T193000
DTEND;TZID=America/Halifax:20240703T220000
DTSTAMP:20260420T141010
CREATED:20240612T224730Z
LAST-MODIFIED:20240703T143851Z
UID:3101-1720035000-1720044000@www.the-island-house.com
SUMMARY:GIVETON GELIN – ISLAND DREAMER
DESCRIPTION:THIS EVENT IS SOLD OUT – TICKETS WILL NOT BE AVAILABLE AT THE DOOR.\n\nJoin us at The Island House Jazz Club on July 3\, 2024\, at 7:30 PM for an unforgettable evening with TIH Resident Artist Giveton Gelin and his ensemble. Experience the bluesy syncopations of “Island Dreamer\,” a captivating performance inspired by music from Giveton’s highly anticipated forthcoming album. The evening will showcase Giveton Gelin on trumpet\, Esteban Castro on piano\, Adrian D’Aguilar on double bass\, and Giveson Gelin on percussion.\n\nGiveton Gelin\, a Juilliard School graduate\, has rapidly ascended the jazz world\, earning accolades such as Youngarts Finalist\, Betty Carter Jazz Ahead\, and DC Jazz Prix winner. His impressive collaborations with jazz luminaries like Kenny Garret\, Ron Carter\, Christian McBride\, Jon Batiste\, and the late Roy Hargrove have solidified his reputation as a formidable talent in contemporary jazz.\n\nHargrove\, a mentor to Giveton\, once said\, “I really love Giveton’s sound and vocal quality that he has when he plays. He is one of the few players that I have heard that actually sings through the horn.” This evening promises to showcase Giveton’s extraordinary ability to blend intellect\, feeling\, and intensity\, perpetuating the highest levels of jazz music.\n\nWe invite you to enjoy this exclusive opportunity to witness a masterful performance by Giveton Gelin and his ensemble\, kicking off his residency at The Island House for 2024-2025.
URL:https://www.the-island-house.com/event/giveton-gelin-island-dreamer/
LOCATION:The Island House Jazz Club\, Mahogany Hill\, Western Road\, Nassau\, Bahamas
CATEGORIES:Jazz Club
ATTACH;FMTTYPE=image/png:https://www.the-island-house.com/wp-content/uploads/2024/06/Unknown-5.png
ORGANIZER;CN="The Island House":MAILTO:events@the-island-house.com
END:VEVENT
BEGIN:VEVENT
DTSTART;TZID=America/Halifax:20240629T210000
DTEND;TZID=America/Halifax:20240629T235900
DTSTAMP:20260420T141010
CREATED:20240612T030435Z
LAST-MODIFIED:20240612T030656Z
UID:3055-1719694800-1719705540@www.the-island-house.com
SUMMARY:Shima: AFTER_DARK: Resident TAO LUMIN
DESCRIPTION:Experience the electrifying AFTER_DARK party on Shima’s balcony on Saturday\, June 29\, from 9 p.m. to 12 a.m. with resident TAO LUMIN. This talented DJ and producer will deliver a mesmerizing house set\, blending soul\, funk\, and Chicago-rooted house influences. No cover charge and no reservations required. See you on the dance floor!
URL:https://www.the-island-house.com/event/shima-after_dark-tao-lumin-june-29/
LOCATION:Shima\, The Island House\, Bahamas
ATTACH;FMTTYPE=image/png:https://www.the-island-house.com/wp-content/uploads/2024/06/S_A_D_Jun_24_TV.png
END:VEVENT
BEGIN:VEVENT
DTSTART;TZID=America/Halifax:20240627T193000
DTEND;TZID=America/Halifax:20240627T213000
DTSTAMP:20260420T141010
CREATED:20240612T025510Z
LAST-MODIFIED:20240612T025737Z
UID:3048-1719516600-1719523800@www.the-island-house.com
SUMMARY:Unwinding Hour: Resident JTay
DESCRIPTION:Join us at Yellowbell on Thursday\, June 27\, from 7:30 to 9:30 p.m. for 2024-2025 resident JTay‘s Unwinding Hour set. This dynamic drummer-turned-vocalist brings a powerful blend of R&B\, Hip-Hop\, and Soul\, infused with uplifting messages. Enjoy a night of inspiring music and our signature craft cocktails for an evening to remember.
URL:https://www.the-island-house.com/event/unwinding-hour-resident-jtay-june-27/
LOCATION:Yellowbell\, The Island House\, Bahamas
ATTACH;FMTTYPE=image/jpeg:https://www.the-island-house.com/wp-content/uploads/2024/06/JTay_shot-by-Blair-Meadows_01-scaled.jpg
END:VEVENT
BEGIN:VEVENT
DTSTART;TZID=America/Halifax:20240620T193000
DTEND;TZID=America/Halifax:20240620T213000
DTSTAMP:20260420T141010
CREATED:20240612T024629Z
LAST-MODIFIED:20240612T025642Z
UID:3039-1718911800-1718919000@www.the-island-house.com
SUMMARY:Unwinding Hour: KATYA
DESCRIPTION:Join us at Yellowbell on Thursday\, June 20\, from 7:30 to 9:30 p.m. for KATYA‘s Unwinding Hour set. This Bahamian singer-songwriter and producer blends bubblegum pop\, 90s R&B\, neo-soul\, and Junkanoo\, creating a unique sound with intricate textures and smooth vocals. Pull up a seat and enjoy our signature craft cocktails for a truly unforgettable evening.
URL:https://www.the-island-house.com/event/unwinding-hour-katya-june-20/
LOCATION:Yellowbell\, The Island House\, Bahamas
ATTACH;FMTTYPE=image/png:https://www.the-island-house.com/wp-content/uploads/2024/06/Katya_16x9.png
END:VEVENT
BEGIN:VEVENT
DTSTART;TZID=America/Halifax:20240613T200000
DTEND;TZID=America/Halifax:20240613T220000
DTSTAMP:20260420T141010
CREATED:20240612T023424Z
LAST-MODIFIED:20240612T025718Z
UID:2923-1718308800-1718316000@www.the-island-house.com
SUMMARY:Unwinding Hour: Resident Danielle Lee
DESCRIPTION:Join us at Yellowbell on Thursday\, June 13\, from 8 to 10 p.m. for a special evening at Unwinding Hour with resident artist Danielle Lee. Experience her enchanting voice and innovative musical performance while you relax and enjoy our signature craft cocktails. Don’t miss this memorable night of great music and fine drinks. There is no cover charge for Unwinding Hour\, and reservations are not required.
URL:https://www.the-island-house.com/event/unwinding-hour-danielle-lee-june-13/
LOCATION:Yellowbell\, The Island House\, Bahamas
ATTACH;FMTTYPE=image/jpeg:https://www.the-island-house.com/wp-content/uploads/2024/06/Danielle-Lee_shot-by-Blair-Meadows_03-scaled.jpg
END:VEVENT
BEGIN:VEVENT
DTSTART;TZID=America/Halifax:20240530T190000
DTEND;TZID=America/Halifax:20240530T210000
DTSTAMP:20260420T141010
CREATED:20240530T154318Z
LAST-MODIFIED:20240530T154405Z
UID:2848-1717095600-1717102800@www.the-island-house.com
SUMMARY:ANGEL RECKLEY
DESCRIPTION:Join us for an enchanting evening with Angel Reckley\, a renowned singer\, songwriter\, and saxophonist from Nassau\, Bahamas. \nAngel first made her mark with the release of her debut single\, “Slighted\,” in 2017. Since then\, she has flourished as a co-writer and featured artist in numerous projects\, collaborations\, and productions. \nAngel’s musical journey\, both as a solo artist and a member of the Bahamian choral ensemble\, the Bel Canto Singers\, has taken her to international stages. She has performed at prestigious venues such as the Apollo Theater and captivated audiences across Asia and Europe. Don’t miss this opportunity to experience Angel’s exceptional musical talent at The Island House’s Unwinding Hour. \nAs always reservations are not required – Our cocktails and bar bites will be available until late.
URL:https://www.the-island-house.com/event/angel-reckley-unwinding-hour/
LOCATION:Yellowbell\, The Island House\, Bahamas
CATEGORIES:Yellowbell
ATTACH;FMTTYPE=image/png:https://www.the-island-house.com/wp-content/uploads/2024/05/a0316b7e-50d9-7c6f-5261-64f1296e05f3.png
END:VEVENT
BEGIN:VEVENT
DTSTART;TZID=UTC:20240510T180000
DTEND;TZID=UTC:20240510T235900
DTSTAMP:20260420T141010
CREATED:20240301T210928Z
LAST-MODIFIED:20240510T212630Z
UID:2208-1715364000-1715385540@www.the-island-house.com
SUMMARY:Calle Ocho
DESCRIPTION:We are transforming Yellowbell and our terraces to a lively night on ‘Calle Echo’ in Little Havana\, Miami! \nThe night will begin with an hour of salsa dance training to get you geared up for a night of dancing under the stars\, followed by live music by Cuarteto Salsason from Miami\, cocktails by Cafe La Trova dominos\, cigars\, cuban bites\, rum sipping and DJ until late. \nThe event has a $25 advance cover charge which can be purchased in advance below. \nFor more information and any questions please email events@the-island-house.com.
URL:https://www.the-island-house.com/event/calle_ocho/
LOCATION:Yellowbell\, The Island House\, Bahamas
CATEGORIES:Yellowbell
ATTACH;FMTTYPE=image/jpeg:https://www.the-island-house.com/wp-content/uploads/2024/03/1200x630_CalleOcho-scaled.jpg
END:VEVENT
BEGIN:VEVENT
DTSTART;TZID=UTC:20240427T200000
DTEND;TZID=UTC:20240427T235900
DTSTAMP:20260420T141010
CREATED:20240417T004619Z
LAST-MODIFIED:20240429T213632Z
UID:2095-1714248000-1714262340@www.the-island-house.com
SUMMARY:Shima: AFTER_DARK
DESCRIPTION:Join us on April 27th from 8pm – 12am on the Shima balcony as we immerse ourselves in the soulful depths of house music with TAO LUMIN at the decks. \nDrawing inspiration from his diverse background\, this selector-producer’s expertly crafted sets of infectious rhythms and uplifting melodies pay homage to the genre’s roots while infusing them with a modern twist. From the underground dance floors to the expansive shores\, Tao Lumin’s DJ prowess transcends boundaries\, uniting us all in a celebration of music and community. \nSave the date and get ready to dance the night away to TAO LUMIN’s hypnotic set.
URL:https://www.the-island-house.com/event/shima-after_dark/
LOCATION:Shima\, The Island House\, Bahamas
CATEGORIES:Shima
ATTACH;FMTTYPE=image/png:https://www.the-island-house.com/wp-content/uploads/2024/04/image002.png
END:VEVENT
BEGIN:VEVENT
DTSTART;TZID=UTC:20240417T110000
DTEND;TZID=UTC:20240417T140000
DTSTAMP:20260420T141010
CREATED:20240417T005927Z
LAST-MODIFIED:20240417T005927Z
UID:2102-1713351600-1713362400@www.the-island-house.com
SUMMARY:Pasta Making Class w/ Rino Bono
DESCRIPTION:We are hosting a Pasta Making Class with Rino Bono\, the Executive Chef of the Locatelli Group Wednesday\, April 17 @ 11am \nRino is here for a few weeks from London\, and we are thrilled to have him share his talent on how to make authentic Italian pasta by hand. \nYou will not only learn the technique and make your own batch of pasta to take home\, but the session will end with you enjoying a plate of pasta cooked by our Mogano team paired with a glass of wine and dessert. \nThe session is $120 per person plus vat. As spaces are limited\, we ask you to please email mogano@the-island-house.com as soon as possible to book your spot.
URL:https://www.the-island-house.com/event/pasta-making-class-w-rino-bono/
CATEGORIES:Mogano
ATTACH;FMTTYPE=image/jpeg:https://www.the-island-house.com/wp-content/uploads/2024/04/image003.jpg
END:VEVENT
BEGIN:VEVENT
DTSTART;TZID=UTC:20240411T190000
DTEND;TZID=UTC:20240411T220000
DTSTAMP:20260420T141010
CREATED:20240417T004752Z
LAST-MODIFIED:20240429T213801Z
UID:2100-1712862000-1712872800@www.the-island-house.com
SUMMARY:Blackswann Band
DESCRIPTION:April’s music series at Yellowbell opened with a debut performance by Jam Session Band last Thursday\, and thanks to the great feedback you shared\, we will definitely have them back very soon – So stay tuned! \nBuilding on this momentum\, Blackswann Band will be performing this Thursday\, bringing its electrifying fusion of pop\, soul and rake ‘n scape. Known for their infectious energy\, the band always leaves audiences eagerly anticipating each successive song. \nJoin us on the Yellowbell Terrace every Thursday between 7-9pm to indulge in the finest local talent while sipping on exquisitely crafted cocktails and bites.
URL:https://www.the-island-house.com/event/blackswann-band/
LOCATION:Yellowbell\, The Island House\, Bahamas
CATEGORIES:Yellowbell
ATTACH;FMTTYPE=image/png:https://www.the-island-house.com/wp-content/uploads/2024/04/image001.png
END:VEVENT
END:VCALENDAR