BEGIN:VCALENDAR
VERSION:2.0
PRODID:-//The Island House - ECPv6.15.10//NONSGML v1.0//EN
CALSCALE:GREGORIAN
METHOD:PUBLISH
X-WR-CALNAME:The Island House
X-ORIGINAL-URL:https://www.the-island-house.com
X-WR-CALDESC:Events for The Island House
REFRESH-INTERVAL;VALUE=DURATION:PT1H
X-Robots-Tag:noindex
X-PUBLISHED-TTL:PT1H
BEGIN:VTIMEZONE
TZID:America/New_York
BEGIN:DAYLIGHT
TZOFFSETFROM:-0500
TZOFFSETTO:-0400
TZNAME:EDT
DTSTART:20250309T070000
END:DAYLIGHT
BEGIN:STANDARD
TZOFFSETFROM:-0400
TZOFFSETTO:-0500
TZNAME:EST
DTSTART:20251102T060000
END:STANDARD
BEGIN:DAYLIGHT
TZOFFSETFROM:-0500
TZOFFSETTO:-0400
TZNAME:EDT
DTSTART:20260308T070000
END:DAYLIGHT
BEGIN:STANDARD
TZOFFSETFROM:-0400
TZOFFSETTO:-0500
TZNAME:EST
DTSTART:20261101T060000
END:STANDARD
BEGIN:DAYLIGHT
TZOFFSETFROM:-0500
TZOFFSETTO:-0400
TZNAME:EDT
DTSTART:20270314T070000
END:DAYLIGHT
BEGIN:STANDARD
TZOFFSETFROM:-0400
TZOFFSETTO:-0500
TZNAME:EST
DTSTART:20271107T060000
END:STANDARD
END:VTIMEZONE
BEGIN:VEVENT
DTSTART;TZID=America/New_York:20260313T170000
DTEND;TZID=America/New_York:20260313T230000
DTSTAMP:20260423T080921
CREATED:20260309T205142Z
LAST-MODIFIED:20260309T205540Z
UID:15217-1773421200-1773442800@www.the-island-house.com
SUMMARY:Sip\, Shuck & Roll
DESCRIPTION:An evening made for indulging. Fresh shucks\, signature rolls\, and sips worth savoring.\n\n\nSee you on Friday\, March  13\, at 5 PM at Shima.
URL:https://www.the-island-house.com/event/sip-shuck-roll-2/
LOCATION:Shima\, The Island House\, Bahamas
CATEGORIES:Shima
ATTACH;FMTTYPE=image/jpeg:https://www.the-island-house.com/wp-content/uploads/2026/03/Sip-Shuck-Roll-2pp.jpg
ORGANIZER;CN="The Island House":MAILTO:events@the-island-house.com
END:VEVENT
END:VCALENDAR