BEGIN:VCALENDAR
VERSION:2.0
PRODID:-//The Island House - ECPv6.15.10//NONSGML v1.0//EN
CALSCALE:GREGORIAN
METHOD:PUBLISH
X-WR-CALNAME:The Island House
X-ORIGINAL-URL:https://www.the-island-house.com
X-WR-CALDESC:Events for The Island House
REFRESH-INTERVAL;VALUE=DURATION:PT1H
X-Robots-Tag:noindex
X-PUBLISHED-TTL:PT1H
BEGIN:VTIMEZONE
TZID:America/New_York
BEGIN:DAYLIGHT
TZOFFSETFROM:-0500
TZOFFSETTO:-0400
TZNAME:EDT
DTSTART:20250309T070000
END:DAYLIGHT
BEGIN:STANDARD
TZOFFSETFROM:-0400
TZOFFSETTO:-0500
TZNAME:EST
DTSTART:20251102T060000
END:STANDARD
BEGIN:DAYLIGHT
TZOFFSETFROM:-0500
TZOFFSETTO:-0400
TZNAME:EDT
DTSTART:20260308T070000
END:DAYLIGHT
BEGIN:STANDARD
TZOFFSETFROM:-0400
TZOFFSETTO:-0500
TZNAME:EST
DTSTART:20261101T060000
END:STANDARD
BEGIN:DAYLIGHT
TZOFFSETFROM:-0500
TZOFFSETTO:-0400
TZNAME:EDT
DTSTART:20270314T070000
END:DAYLIGHT
BEGIN:STANDARD
TZOFFSETFROM:-0400
TZOFFSETTO:-0500
TZNAME:EST
DTSTART:20271107T060000
END:STANDARD
END:VTIMEZONE
BEGIN:VEVENT
DTSTART;TZID=America/New_York:20260312T193000
DTEND;TZID=America/New_York:20260312T213000
DTSTAMP:20260423T081658
CREATED:20260226T175555Z
LAST-MODIFIED:20260226T175555Z
UID:15045-1773343800-1773351000@www.the-island-house.com
SUMMARY:Unwinding Hour: Sherwood Rahming
DESCRIPTION:Performing at Unwinding Hour\, Sherwood Rahming takes the stage with his soulful sound and authentic musical style\, live on the mic from 7:30 pm to 9:30 pm.\n\n\nNo reservations required and no cover charge. See you there
URL:https://www.the-island-house.com/event/unwinding-hour-sherwood-rahming/
LOCATION:Yellowbell\, The Island House\, Bahamas
CATEGORIES:Yellowbell
ATTACH;FMTTYPE=image/jpeg:https://www.the-island-house.com/wp-content/uploads/2026/02/627209441_1317456063757764_5145456786827798451_n.jpg
ORGANIZER;CN="The Island House":MAILTO:events@the-island-house.com
END:VEVENT
END:VCALENDAR