BEGIN:VCALENDAR
VERSION:2.0
PRODID:-//The Island House - ECPv6.15.10//NONSGML v1.0//EN
CALSCALE:GREGORIAN
METHOD:PUBLISH
X-ORIGINAL-URL:https://www.the-island-house.com
X-WR-CALDESC:Events for The Island House
REFRESH-INTERVAL;VALUE=DURATION:PT1H
X-Robots-Tag:noindex
X-PUBLISHED-TTL:PT1H
BEGIN:VTIMEZONE
TZID:America/Halifax
BEGIN:DAYLIGHT
TZOFFSETFROM:-0400
TZOFFSETTO:-0300
TZNAME:ADT
DTSTART:20250309T060000
END:DAYLIGHT
BEGIN:STANDARD
TZOFFSETFROM:-0300
TZOFFSETTO:-0400
TZNAME:AST
DTSTART:20251102T050000
END:STANDARD
BEGIN:DAYLIGHT
TZOFFSETFROM:-0400
TZOFFSETTO:-0300
TZNAME:ADT
DTSTART:20260308T060000
END:DAYLIGHT
BEGIN:STANDARD
TZOFFSETFROM:-0300
TZOFFSETTO:-0400
TZNAME:AST
DTSTART:20261101T050000
END:STANDARD
BEGIN:DAYLIGHT
TZOFFSETFROM:-0400
TZOFFSETTO:-0300
TZNAME:ADT
DTSTART:20270314T060000
END:DAYLIGHT
BEGIN:STANDARD
TZOFFSETFROM:-0300
TZOFFSETTO:-0400
TZNAME:AST
DTSTART:20271107T050000
END:STANDARD
END:VTIMEZONE
BEGIN:VEVENT
DTSTART;TZID=America/Halifax:20260123T170000
DTEND;TZID=America/Halifax:20260123T220000
DTSTAMP:20260423T104551
CREATED:20260102T173356Z
LAST-MODIFIED:20260102T173356Z
UID:13971-1769187600-1769205600@www.the-island-house.com
SUMMARY:Sip & Shuck
DESCRIPTION:Join us this Friday\, January 23rd\, from 5 pm up on the Shima balcony for an extra special champagne and oyster pairing experience. \nDiscover the delightful combination of the crisp and elegant champagne and our freshly shucked oysters. We offer you the choice to enjoy them cold with red nam jim sauce or warm with chili jam and crispy shallots. \nReservations are not required; pop by and join us on our Poolside balcony.
URL:https://www.the-island-house.com/event/sip-shuck-4/
LOCATION:Shima\, The Island House\, Bahamas
CATEGORIES:Shima
ATTACH;FMTTYPE=image/jpeg:https://www.the-island-house.com/wp-content/uploads/2025/11/MG_4410-Edit-scaled.jpg
END:VEVENT
END:VCALENDAR