BEGIN:VCALENDAR
VERSION:2.0
PRODID:-//The Island House - ECPv6.15.10//NONSGML v1.0//EN
CALSCALE:GREGORIAN
METHOD:PUBLISH
X-WR-CALNAME:The Island House
X-ORIGINAL-URL:https://www.the-island-house.com
X-WR-CALDESC:Events for The Island House
REFRESH-INTERVAL;VALUE=DURATION:PT1H
X-Robots-Tag:noindex
X-PUBLISHED-TTL:PT1H
BEGIN:VTIMEZONE
TZID:America/New_York
BEGIN:DAYLIGHT
TZOFFSETFROM:-0500
TZOFFSETTO:-0400
TZNAME:EDT
DTSTART:20240310T070000
END:DAYLIGHT
BEGIN:STANDARD
TZOFFSETFROM:-0400
TZOFFSETTO:-0500
TZNAME:EST
DTSTART:20241103T060000
END:STANDARD
BEGIN:DAYLIGHT
TZOFFSETFROM:-0500
TZOFFSETTO:-0400
TZNAME:EDT
DTSTART:20250309T070000
END:DAYLIGHT
BEGIN:STANDARD
TZOFFSETFROM:-0400
TZOFFSETTO:-0500
TZNAME:EST
DTSTART:20251102T060000
END:STANDARD
BEGIN:DAYLIGHT
TZOFFSETFROM:-0500
TZOFFSETTO:-0400
TZNAME:EDT
DTSTART:20260308T070000
END:DAYLIGHT
BEGIN:STANDARD
TZOFFSETFROM:-0400
TZOFFSETTO:-0500
TZNAME:EST
DTSTART:20261101T060000
END:STANDARD
END:VTIMEZONE
BEGIN:VEVENT
DTSTART;TZID=America/New_York:20251227T193000
DTEND;TZID=America/New_York:20251228T000000
DTSTAMP:20260423T120933
CREATED:20251217T220457Z
LAST-MODIFIED:20251227T211820Z
UID:13717-1766863800-1766880000@www.the-island-house.com
SUMMARY:‘The Encore’ – The Final Unwind '25
DESCRIPTION:We are ending the year with a special night of live music under the open sky and invite you to join us for The Encore on Saturday\, December 27th\, from 7:30 pm! \nBoth Pineapple Down and the Rum Dums\, who have graced our Unwinding Hour stage multiple times throughout 2025\, will be out in full force for one final night this year. \nSo bring out your friends and family and join us as we kick-start the end-of-year festivities. Early Bird Tickets are $25. Come one\, come all\, and let’s cheer to the best of times! \nPLEASE NOTE:\nRefunds are only processed when requests are submitted to info@the-island-house.com prior to 48 hours of the event\, any refund requests received within 48-hours of the event begin not be processed.
URL:https://www.the-island-house.com/event/the-encore-the-final-unwind-25/
LOCATION:Yellowbell\, The Island House\, Bahamas
CATEGORIES:Yellowbell
ATTACH;FMTTYPE=image/jpeg:https://www.the-island-house.com/wp-content/uploads/2025/12/horizontal_logo.jpg
END:VEVENT
END:VCALENDAR