BEGIN:VCALENDAR
VERSION:2.0
PRODID:-//The Island House - ECPv6.15.10//NONSGML v1.0//EN
CALSCALE:GREGORIAN
METHOD:PUBLISH
X-ORIGINAL-URL:https://www.the-island-house.com
X-WR-CALDESC:Events for The Island House
REFRESH-INTERVAL;VALUE=DURATION:PT1H
X-Robots-Tag:noindex
X-PUBLISHED-TTL:PT1H
BEGIN:VTIMEZONE
TZID:America/New_York
BEGIN:DAYLIGHT
TZOFFSETFROM:-0500
TZOFFSETTO:-0400
TZNAME:EDT
DTSTART:20240310T070000
END:DAYLIGHT
BEGIN:STANDARD
TZOFFSETFROM:-0400
TZOFFSETTO:-0500
TZNAME:EST
DTSTART:20241103T060000
END:STANDARD
BEGIN:DAYLIGHT
TZOFFSETFROM:-0500
TZOFFSETTO:-0400
TZNAME:EDT
DTSTART:20250309T070000
END:DAYLIGHT
BEGIN:STANDARD
TZOFFSETFROM:-0400
TZOFFSETTO:-0500
TZNAME:EST
DTSTART:20251102T060000
END:STANDARD
BEGIN:DAYLIGHT
TZOFFSETFROM:-0500
TZOFFSETTO:-0400
TZNAME:EDT
DTSTART:20260308T070000
END:DAYLIGHT
BEGIN:STANDARD
TZOFFSETFROM:-0400
TZOFFSETTO:-0500
TZNAME:EST
DTSTART:20261101T060000
END:STANDARD
END:VTIMEZONE
BEGIN:VTIMEZONE
TZID:America/Halifax
BEGIN:DAYLIGHT
TZOFFSETFROM:-0400
TZOFFSETTO:-0300
TZNAME:ADT
DTSTART:20240310T060000
END:DAYLIGHT
BEGIN:STANDARD
TZOFFSETFROM:-0300
TZOFFSETTO:-0400
TZNAME:AST
DTSTART:20241103T050000
END:STANDARD
BEGIN:DAYLIGHT
TZOFFSETFROM:-0400
TZOFFSETTO:-0300
TZNAME:ADT
DTSTART:20250309T060000
END:DAYLIGHT
BEGIN:STANDARD
TZOFFSETFROM:-0300
TZOFFSETTO:-0400
TZNAME:AST
DTSTART:20251102T050000
END:STANDARD
BEGIN:DAYLIGHT
TZOFFSETFROM:-0400
TZOFFSETTO:-0300
TZNAME:ADT
DTSTART:20260308T060000
END:DAYLIGHT
BEGIN:STANDARD
TZOFFSETFROM:-0300
TZOFFSETTO:-0400
TZNAME:AST
DTSTART:20261101T050000
END:STANDARD
END:VTIMEZONE
BEGIN:VEVENT
DTSTART;TZID=America/New_York:20251212T150000
DTEND;TZID=America/New_York:20251212T170000
DTSTAMP:20260423T121122
CREATED:20251208T214135Z
LAST-MODIFIED:20251208T214135Z
UID:13648-1765551600-1765558800@www.the-island-house.com
SUMMARY:Sip & Shop
DESCRIPTION:Our exclusive Bamford Christmas Gift selection has arrived—just in time for our Sip & Shop this Friday\, December 12th\, from 3–5pm. \nJoin us in the spa to explore the new Bamford Christmas Collection\, which this year celebrates the moon and its winter phases. Many of the gift sets feature a beautiful lunar illustration and are thoughtfully curated with step-by-step rituals\, best-sellers\, and new limited-editions your loved ones will be delighted to find under the tree. \nThe Bamford Spa at The Island House is open seven days a week from 9 am–5 pm\, offering gift certificates for an extensive selection of treatments\, including massages\, facials\, manicures and pedicures.
URL:https://www.the-island-house.com/event/sip-shop/
LOCATION:Bamford Spa\, The Island House
CATEGORIES:Bamford Spa
ATTACH;FMTTYPE=image/jpeg:https://www.the-island-house.com/wp-content/uploads/2025/12/Horizontal_tv-scaled.jpg
ORGANIZER;CN="The Island House":MAILTO:events@the-island-house.com
END:VEVENT
BEGIN:VEVENT
DTSTART;TZID=America/Halifax:20251212T170000
DTEND;TZID=America/Halifax:20251212T220000
DTSTAMP:20260423T121122
CREATED:20251121T190330Z
LAST-MODIFIED:20251121T190635Z
UID:13340-1765558800-1765576800@www.the-island-house.com
SUMMARY:Sip & Shuck
DESCRIPTION:We are thrilled to introduce you to our new monthly Sip & Shuck experience at Shima. Join us this Friday\, December 12th\, from 5 pm up on the Shima balcony for an extra special champagne and oyster pairing experience. \nDiscover the delightful combination between the crisp and elegant champagne and our freshly shucked oysters. We offer you the choice to enjoy them cold with red nam jim sauce or warm with chili jam and crispy shallots. \nReservations are not required; pop by and join us on our Poolside balcony.
URL:https://www.the-island-house.com/event/sip-shuck-3/
LOCATION:Shima\, The Island House\, Bahamas
CATEGORIES:Shima
ATTACH;FMTTYPE=image/jpeg:https://www.the-island-house.com/wp-content/uploads/2025/11/MG_4410-Edit-scaled.jpg
END:VEVENT
END:VCALENDAR