BEGIN:VCALENDAR
VERSION:2.0
PRODID:-//The Island House - ECPv6.15.10//NONSGML v1.0//EN
CALSCALE:GREGORIAN
METHOD:PUBLISH
X-ORIGINAL-URL:https://www.the-island-house.com
X-WR-CALDESC:Events for The Island House
REFRESH-INTERVAL;VALUE=DURATION:PT1H
X-Robots-Tag:noindex
X-PUBLISHED-TTL:PT1H
BEGIN:VTIMEZONE
TZID:America/Halifax
BEGIN:DAYLIGHT
TZOFFSETFROM:-0400
TZOFFSETTO:-0300
TZNAME:ADT
DTSTART:20240310T060000
END:DAYLIGHT
BEGIN:STANDARD
TZOFFSETFROM:-0300
TZOFFSETTO:-0400
TZNAME:AST
DTSTART:20241103T050000
END:STANDARD
BEGIN:DAYLIGHT
TZOFFSETFROM:-0400
TZOFFSETTO:-0300
TZNAME:ADT
DTSTART:20250309T060000
END:DAYLIGHT
BEGIN:STANDARD
TZOFFSETFROM:-0300
TZOFFSETTO:-0400
TZNAME:AST
DTSTART:20251102T050000
END:STANDARD
BEGIN:DAYLIGHT
TZOFFSETFROM:-0400
TZOFFSETTO:-0300
TZNAME:ADT
DTSTART:20260308T060000
END:DAYLIGHT
BEGIN:STANDARD
TZOFFSETFROM:-0300
TZOFFSETTO:-0400
TZNAME:AST
DTSTART:20261101T050000
END:STANDARD
END:VTIMEZONE
BEGIN:VEVENT
DTSTART;TZID=America/Halifax:20251122T173000
DTEND;TZID=America/Halifax:20251122T210000
DTSTAMP:20260423T133814
CREATED:20251112T212131Z
LAST-MODIFIED:20251112T212328Z
UID:13190-1763832600-1763845200@www.the-island-house.com
SUMMARY:Island Pizza Kids Cinema: Fantastic Four
DESCRIPTION:Join us for our weekly family-friendly movie night at Island Pizza. This weekend\, we’re screening the superhero installment\, Fantastic Four: First Steps. \nMister Fantastic\, Invisible Woman\, Human Torch and the Thing face their most daunting challenge yet as they defend Earth from Galactus and Silver Surfer. \nThe movie showings here at Island Pizza are always free\, and reservations are not required. Come and enjoy with us!
URL:https://www.the-island-house.com/event/island-pizza-kids-cinema-fantastic-four/
LOCATION:Island Pizza\, The Island House
CATEGORIES:Island Pizza
ATTACH;FMTTYPE=image/avif:https://www.the-island-house.com/wp-content/uploads/2025/11/et00432123-dfbjhgmmun-landscape.avif
ORGANIZER;CN="The Island House":MAILTO:events@the-island-house.com
END:VEVENT
END:VCALENDAR