BEGIN:VCALENDAR
VERSION:2.0
PRODID:-//The Island House - ECPv6.15.10//NONSGML v1.0//EN
CALSCALE:GREGORIAN
METHOD:PUBLISH
X-ORIGINAL-URL:https://www.the-island-house.com
X-WR-CALDESC:Events for The Island House
REFRESH-INTERVAL;VALUE=DURATION:PT1H
X-Robots-Tag:noindex
X-PUBLISHED-TTL:PT1H
BEGIN:VTIMEZONE
TZID:America/Halifax
BEGIN:DAYLIGHT
TZOFFSETFROM:-0400
TZOFFSETTO:-0300
TZNAME:ADT
DTSTART:20240310T060000
END:DAYLIGHT
BEGIN:STANDARD
TZOFFSETFROM:-0300
TZOFFSETTO:-0400
TZNAME:AST
DTSTART:20241103T050000
END:STANDARD
BEGIN:DAYLIGHT
TZOFFSETFROM:-0400
TZOFFSETTO:-0300
TZNAME:ADT
DTSTART:20250309T060000
END:DAYLIGHT
BEGIN:STANDARD
TZOFFSETFROM:-0300
TZOFFSETTO:-0400
TZNAME:AST
DTSTART:20251102T050000
END:STANDARD
BEGIN:DAYLIGHT
TZOFFSETFROM:-0400
TZOFFSETTO:-0300
TZNAME:ADT
DTSTART:20260308T060000
END:DAYLIGHT
BEGIN:STANDARD
TZOFFSETFROM:-0300
TZOFFSETTO:-0400
TZNAME:AST
DTSTART:20261101T050000
END:STANDARD
END:VTIMEZONE
BEGIN:VEVENT
DTSTART;TZID=America/Halifax:20251121T170000
DTEND;TZID=America/Halifax:20251121T213000
DTSTAMP:20260423T133811
CREATED:20251112T213316Z
LAST-MODIFIED:20251112T224838Z
UID:13193-1763744400-1763760600@www.the-island-house.com
SUMMARY:Windsor Jam Band
DESCRIPTION:Join us at Island Pizza on November 21st for the electrifying Windsor Jam Band from 6 to 8 p.m.\nWe can’t wait to see you there for a night of fantastic music and great vibes!
URL:https://www.the-island-house.com/event/windsor-jam-band/
ATTACH;FMTTYPE=image/jpeg:https://www.the-island-house.com/wp-content/uploads/2025/11/IMG_6776-scaled.jpg
END:VEVENT
BEGIN:VEVENT
DTSTART;TZID=America/Halifax:20251121T170000
DTEND;TZID=America/Halifax:20251121T220000
DTSTAMP:20260423T133811
CREATED:20251104T160744Z
LAST-MODIFIED:20251104T163414Z
UID:13011-1763744400-1763762400@www.the-island-house.com
SUMMARY:Sip & Shuck
DESCRIPTION:We are thrilled to invite you to our monthly Sip & Shuck experience at Shima. Join us Friday\, November 21st\, from 5 pm up on the Shima balcony for an extra special champagne and oyster pairing experience. \nDiscover the delightful combination of the crisp and elegant champagne and our freshly shucked oysters. We offer you the choice to enjoy them cold with red nam jim sauce or warm with chili jam and crispy shallots. \nReservations are not required; pop by and join us on our Poolside balcony.
URL:https://www.the-island-house.com/event/sip-shuck-2/
LOCATION:Shima\, The Island House\, Bahamas
CATEGORIES:Shima
ATTACH;FMTTYPE=image/jpeg:https://www.the-island-house.com/wp-content/uploads/2025/10/MG_4429-2-scaled.jpg
END:VEVENT
END:VCALENDAR