BEGIN:VCALENDAR
VERSION:2.0
PRODID:-//The Island House - ECPv6.15.10//NONSGML v1.0//EN
CALSCALE:GREGORIAN
METHOD:PUBLISH
X-ORIGINAL-URL:https://www.the-island-house.com
X-WR-CALDESC:Events for The Island House
REFRESH-INTERVAL;VALUE=DURATION:PT1H
X-Robots-Tag:noindex
X-PUBLISHED-TTL:PT1H
BEGIN:VTIMEZONE
TZID:America/Halifax
BEGIN:DAYLIGHT
TZOFFSETFROM:-0400
TZOFFSETTO:-0300
TZNAME:ADT
DTSTART:20240310T060000
END:DAYLIGHT
BEGIN:STANDARD
TZOFFSETFROM:-0300
TZOFFSETTO:-0400
TZNAME:AST
DTSTART:20241103T050000
END:STANDARD
BEGIN:DAYLIGHT
TZOFFSETFROM:-0400
TZOFFSETTO:-0300
TZNAME:ADT
DTSTART:20250309T060000
END:DAYLIGHT
BEGIN:STANDARD
TZOFFSETFROM:-0300
TZOFFSETTO:-0400
TZNAME:AST
DTSTART:20251102T050000
END:STANDARD
BEGIN:DAYLIGHT
TZOFFSETFROM:-0400
TZOFFSETTO:-0300
TZNAME:ADT
DTSTART:20260308T060000
END:DAYLIGHT
BEGIN:STANDARD
TZOFFSETFROM:-0300
TZOFFSETTO:-0400
TZNAME:AST
DTSTART:20261101T050000
END:STANDARD
END:VTIMEZONE
BEGIN:VEVENT
DTSTART;TZID=America/Halifax:20251115T173000
DTEND;TZID=America/Halifax:20251115T210000
DTSTAMP:20260423T133828
CREATED:20251112T160000Z
LAST-MODIFIED:20251112T160000Z
UID:13177-1763227800-1763240400@www.the-island-house.com
SUMMARY:Island Pizza Kids Cinema: Wicked
DESCRIPTION:GET IN THE ‘WICKED’ SPIRIT\nJoin us this Saturday\, November 15th\, at 5:30 pm at Island Pizza as we screen ‘Wicked’ in preparation for the big release of the 2nd installment in this series. \nMisunderstood because of her green skin\, a young woman named Elphaba forges an unlikely but profound friendship with Glinda\, a student with an unflinching desire for popularity. Following an encounter with the Wizard of Oz\, their relationship soon reaches a crossroad as their lives begin to take very different paths \nThe movie showings here at Island Pizza are always free\, and reservations are not required. Come and enjoy with us!
URL:https://www.the-island-house.com/event/island-pizza-kids-cinema-wicked/
LOCATION:Island Pizza\, The Island House
CATEGORIES:Island Pizza
ATTACH;FMTTYPE=image/jpeg:https://www.the-island-house.com/wp-content/uploads/2025/10/WKD_TVSlide_1920x1080pxH_Reach_8.jpg
ORGANIZER;CN="The Island House":MAILTO:events@the-island-house.com
END:VEVENT
END:VCALENDAR