BEGIN:VCALENDAR
VERSION:2.0
PRODID:-//The Island House - ECPv6.15.10//NONSGML v1.0//EN
CALSCALE:GREGORIAN
METHOD:PUBLISH
X-WR-CALNAME:The Island House
X-ORIGINAL-URL:https://www.the-island-house.com
X-WR-CALDESC:Events for The Island House
REFRESH-INTERVAL;VALUE=DURATION:PT1H
X-Robots-Tag:noindex
X-PUBLISHED-TTL:PT1H
BEGIN:VTIMEZONE
TZID:America/Halifax
BEGIN:DAYLIGHT
TZOFFSETFROM:-0400
TZOFFSETTO:-0300
TZNAME:ADT
DTSTART:20240310T060000
END:DAYLIGHT
BEGIN:STANDARD
TZOFFSETFROM:-0300
TZOFFSETTO:-0400
TZNAME:AST
DTSTART:20241103T050000
END:STANDARD
BEGIN:DAYLIGHT
TZOFFSETFROM:-0400
TZOFFSETTO:-0300
TZNAME:ADT
DTSTART:20250309T060000
END:DAYLIGHT
BEGIN:STANDARD
TZOFFSETFROM:-0300
TZOFFSETTO:-0400
TZNAME:AST
DTSTART:20251102T050000
END:STANDARD
BEGIN:DAYLIGHT
TZOFFSETFROM:-0400
TZOFFSETTO:-0300
TZNAME:ADT
DTSTART:20260308T060000
END:DAYLIGHT
BEGIN:STANDARD
TZOFFSETFROM:-0300
TZOFFSETTO:-0400
TZNAME:AST
DTSTART:20261101T050000
END:STANDARD
END:VTIMEZONE
BEGIN:VEVENT
DTSTART;TZID=America/Halifax:20250523T180000
DTEND;TZID=America/Halifax:20250523T210000
DTSTAMP:20260424T152019
CREATED:20250422T170404Z
LAST-MODIFIED:20250522T223525Z
UID:9128-1748023200-1748034000@www.the-island-house.com
SUMMARY:UNCORKED – Exclusive Preview Night
DESCRIPTION:UNCORKED – Exclusive Preview Night\nFRIDAY\, MAY 23\n6-9pm\nMEMBERS: $100 +VAT\nNON-MEMBERS: $138 +VAT\nThe Island House Terrace & Lawn \nIndulge and taste your way through Young’s Fine Wine portfolio accompanied by a selection of thoughtfully paired hors d’oeuvres. \nJourney through a diverse collection of exceptional wines\, showcasing the finest regions and varietals. These will be complemented by a series of exquisite bites from The Island Houses’ restaurants featuring: the delicate flavors of Shima’s Asian-inspired dishes\, the bold and savory notes from Yellowbell’s fusion creations\, and the vibrant Italian offerings from Mogano. \nThe Island House invites you to this sensory exploration under the open sky\, where each sip and bite enhances the other. \nHosted in partnership with Cacique International. \nPlease note refund requests will only be accepted 48 hours in advance of the event.
URL:https://www.the-island-house.com/event/uncorked-exclusive-preview-night/
LOCATION:The Island House Lawn\, The Island House\, Nassau\, Bahamas
CATEGORIES:The Island House
ATTACH;FMTTYPE=image/png:https://www.the-island-house.com/wp-content/uploads/2025/04/Screenshot-2025-04-22-at-11.49.30 AM.png
ORGANIZER;CN="The Island House":MAILTO:events@the-island-house.com
END:VEVENT
END:VCALENDAR