BEGIN:VCALENDAR
VERSION:2.0
PRODID:-//The Island House - ECPv6.15.10//NONSGML v1.0//EN
CALSCALE:GREGORIAN
METHOD:PUBLISH
X-WR-CALNAME:The Island House
X-ORIGINAL-URL:https://www.the-island-house.com
X-WR-CALDESC:Events for The Island House
REFRESH-INTERVAL;VALUE=DURATION:PT1H
X-Robots-Tag:noindex
X-PUBLISHED-TTL:PT1H
BEGIN:VTIMEZONE
TZID:America/Halifax
BEGIN:DAYLIGHT
TZOFFSETFROM:-0400
TZOFFSETTO:-0300
TZNAME:ADT
DTSTART:20240310T060000
END:DAYLIGHT
BEGIN:STANDARD
TZOFFSETFROM:-0300
TZOFFSETTO:-0400
TZNAME:AST
DTSTART:20241103T050000
END:STANDARD
BEGIN:DAYLIGHT
TZOFFSETFROM:-0400
TZOFFSETTO:-0300
TZNAME:ADT
DTSTART:20250309T060000
END:DAYLIGHT
BEGIN:STANDARD
TZOFFSETFROM:-0300
TZOFFSETTO:-0400
TZNAME:AST
DTSTART:20251102T050000
END:STANDARD
BEGIN:DAYLIGHT
TZOFFSETFROM:-0400
TZOFFSETTO:-0300
TZNAME:ADT
DTSTART:20260308T060000
END:DAYLIGHT
BEGIN:STANDARD
TZOFFSETFROM:-0300
TZOFFSETTO:-0400
TZNAME:AST
DTSTART:20261101T050000
END:STANDARD
END:VTIMEZONE
BEGIN:VEVENT
DTSTART;TZID=America/Halifax:20250130T193000
DTEND;TZID=America/Halifax:20250130T213000
DTSTAMP:20260424T195152
CREATED:20250115T231956Z
LAST-MODIFIED:20250115T231956Z
UID:7807-1738265400-1738272600@www.the-island-house.com
SUMMARY:Unwinding Hour: Nevandria Lyriic
DESCRIPTION:On January 30\, Nevandria Lyriic returns to Unwinding Hour for a carefully crafted two-hour set. Renowned for her haunting alto range and poignant original songwriting\, Nevandria weaves tales of love\, loss\, and resilience with every soul-stirring note. \nJoin us from 7-9 pm to indulge in the finest local talent while sipping on exquisitely crafted cocktails. As usual\, there’s no cover charge for Unwinding Hour\, and reservations are not required.
URL:https://www.the-island-house.com/event/unwinding-hour-nevandria-lyriic/
LOCATION:Yellowbell\, The Island House\, Bahamas
CATEGORIES:Yellowbell
ATTACH;FMTTYPE=image/png:https://www.the-island-house.com/wp-content/uploads/2025/01/Nevandria-Lyriic16x9.png
END:VEVENT
END:VCALENDAR