BEGIN:VCALENDAR
VERSION:2.0
PRODID:-//The Island House - ECPv6.15.10//NONSGML v1.0//EN
CALSCALE:GREGORIAN
METHOD:PUBLISH
X-ORIGINAL-URL:https://www.the-island-house.com
X-WR-CALDESC:Events for The Island House
REFRESH-INTERVAL;VALUE=DURATION:PT1H
X-Robots-Tag:noindex
X-PUBLISHED-TTL:PT1H
BEGIN:VTIMEZONE
TZID:America/Halifax
BEGIN:DAYLIGHT
TZOFFSETFROM:-0400
TZOFFSETTO:-0300
TZNAME:ADT
DTSTART:20240310T060000
END:DAYLIGHT
BEGIN:STANDARD
TZOFFSETFROM:-0300
TZOFFSETTO:-0400
TZNAME:AST
DTSTART:20241103T050000
END:STANDARD
BEGIN:DAYLIGHT
TZOFFSETFROM:-0400
TZOFFSETTO:-0300
TZNAME:ADT
DTSTART:20250309T060000
END:DAYLIGHT
BEGIN:STANDARD
TZOFFSETFROM:-0300
TZOFFSETTO:-0400
TZNAME:AST
DTSTART:20251102T050000
END:STANDARD
BEGIN:DAYLIGHT
TZOFFSETFROM:-0400
TZOFFSETTO:-0300
TZNAME:ADT
DTSTART:20260308T060000
END:DAYLIGHT
BEGIN:STANDARD
TZOFFSETFROM:-0300
TZOFFSETTO:-0400
TZNAME:AST
DTSTART:20261101T050000
END:STANDARD
END:VTIMEZONE
BEGIN:VEVENT
DTSTART;TZID=America/Halifax:20250123T193000
DTEND;TZID=America/Halifax:20250123T213000
DTSTAMP:20260424T211803
CREATED:20250115T231615Z
LAST-MODIFIED:20250115T231615Z
UID:7804-1737660600-1737667800@www.the-island-house.com
SUMMARY:Unwinding Hour: The Rum Dums
DESCRIPTION:Unwinding Hour continues in 2025 with a carefully curated program designed to evoke warmth and connection through diverse musical textures. On January 23\, The Rum Dums take us on a journey through time\, layering jazz and blues with a nostalgic charm that still feels timeless. \nNo reservations are required for this live music event\, and there is no cover charge. We look forward to Unwinding with you.
URL:https://www.the-island-house.com/event/unwinding-hour-the-rum-dums-2/
LOCATION:Yellowbell\, The Island House\, Bahamas
CATEGORIES:Yellowbell
ATTACH;FMTTYPE=image/png:https://www.the-island-house.com/wp-content/uploads/2025/01/The-Rum-Dums16x9.png
END:VEVENT
END:VCALENDAR