BEGIN:VCALENDAR
VERSION:2.0
PRODID:-//The Island House - ECPv6.15.10//NONSGML v1.0//EN
CALSCALE:GREGORIAN
METHOD:PUBLISH
X-ORIGINAL-URL:https://www.the-island-house.com
X-WR-CALDESC:Events for The Island House
REFRESH-INTERVAL;VALUE=DURATION:PT1H
X-Robots-Tag:noindex
X-PUBLISHED-TTL:PT1H
BEGIN:VTIMEZONE
TZID:America/New_York
BEGIN:DAYLIGHT
TZOFFSETFROM:-0500
TZOFFSETTO:-0400
TZNAME:EDT
DTSTART:20230312T070000
END:DAYLIGHT
BEGIN:STANDARD
TZOFFSETFROM:-0400
TZOFFSETTO:-0500
TZNAME:EST
DTSTART:20231105T060000
END:STANDARD
BEGIN:DAYLIGHT
TZOFFSETFROM:-0500
TZOFFSETTO:-0400
TZNAME:EDT
DTSTART:20240310T070000
END:DAYLIGHT
BEGIN:STANDARD
TZOFFSETFROM:-0400
TZOFFSETTO:-0500
TZNAME:EST
DTSTART:20241103T060000
END:STANDARD
BEGIN:DAYLIGHT
TZOFFSETFROM:-0500
TZOFFSETTO:-0400
TZNAME:EDT
DTSTART:20250309T070000
END:DAYLIGHT
BEGIN:STANDARD
TZOFFSETFROM:-0400
TZOFFSETTO:-0500
TZNAME:EST
DTSTART:20251102T060000
END:STANDARD
END:VTIMEZONE
BEGIN:VEVENT
DTSTART;TZID=America/New_York:20241223T150000
DTEND;TZID=America/New_York:20241223T160000
DTSTAMP:20260424T224532
CREATED:20241204T214645Z
LAST-MODIFIED:20241223T173210Z
UID:6618-1734966000-1734969600@www.the-island-house.com
SUMMARY:Kids Christmas Storytime
DESCRIPTION:Join us in the library as we read some Christmas books to the kids. Each child will enjoy some cookies and hot chocolate whilst they listen to a festive tale or two. \nPlease note refund requests will only be honoured 48 hours prior to the event.
URL:https://www.the-island-house.com/event/kids-christmas-storytime/
LOCATION:The Library\, The Island House
CATEGORIES:The Island House
ATTACH;FMTTYPE=image/png:https://www.the-island-house.com/wp-content/uploads/2024/12/Screenshot-2024-12-04-at-3.35.26 PM.png
ORGANIZER;CN="The Island House":MAILTO:events@the-island-house.com
END:VEVENT
BEGIN:VEVENT
DTSTART;TZID=America/New_York:20241223T180000
DTEND;TZID=America/New_York:20241223T200000
DTSTAMP:20260424T224532
CREATED:20241205T180330Z
LAST-MODIFIED:20241216T203353Z
UID:6596-1734976800-1734984000@www.the-island-house.com
SUMMARY:The Grinch – Outdoor Screening
DESCRIPTION:POSTPONED – NEW DATE: MONDAY\, DECEMBER 23 \nJoin us for our annual outdoor screening of the classic Christmas movie where a grumpy Grinch plots to ruin Christmas for the village of Whoville. \nDoors open at 6pm\, show starts at nightfall. \nPlease note refund requests will only be honoured 48 hours prior to the event.
URL:https://www.the-island-house.com/event/the-grinch-outdoor-screening/
LOCATION:The Island House Lawn\, The Island House\, Nassau\, Bahamas
CATEGORIES:The Island House
ATTACH;FMTTYPE=image/png:https://www.the-island-house.com/wp-content/uploads/2024/12/Screenshot-2024-12-04-at-3.34.58 PM.png
ORGANIZER;CN="The Island House":MAILTO:events@the-island-house.com
END:VEVENT
END:VCALENDAR