BEGIN:VCALENDAR
VERSION:2.0
PRODID:-//The Island House - ECPv6.15.10//NONSGML v1.0//EN
CALSCALE:GREGORIAN
METHOD:PUBLISH
X-ORIGINAL-URL:https://www.the-island-house.com
X-WR-CALDESC:Events for The Island House
REFRESH-INTERVAL;VALUE=DURATION:PT1H
X-Robots-Tag:noindex
X-PUBLISHED-TTL:PT1H
BEGIN:VTIMEZONE
TZID:America/New_York
BEGIN:DAYLIGHT
TZOFFSETFROM:-0500
TZOFFSETTO:-0400
TZNAME:EDT
DTSTART:20230312T070000
END:DAYLIGHT
BEGIN:STANDARD
TZOFFSETFROM:-0400
TZOFFSETTO:-0500
TZNAME:EST
DTSTART:20231105T060000
END:STANDARD
BEGIN:DAYLIGHT
TZOFFSETFROM:-0500
TZOFFSETTO:-0400
TZNAME:EDT
DTSTART:20240310T070000
END:DAYLIGHT
BEGIN:STANDARD
TZOFFSETFROM:-0400
TZOFFSETTO:-0500
TZNAME:EST
DTSTART:20241103T060000
END:STANDARD
BEGIN:DAYLIGHT
TZOFFSETFROM:-0500
TZOFFSETTO:-0400
TZNAME:EDT
DTSTART:20250309T070000
END:DAYLIGHT
BEGIN:STANDARD
TZOFFSETFROM:-0400
TZOFFSETTO:-0500
TZNAME:EST
DTSTART:20251102T060000
END:STANDARD
END:VTIMEZONE
BEGIN:VEVENT
DTSTART;TZID=America/New_York:20241217T150000
DTEND;TZID=America/New_York:20241217T170000
DTSTAMP:20260425T001339
CREATED:20241205T180241Z
LAST-MODIFIED:20241216T195015Z
UID:6599-1734447600-1734454800@www.the-island-house.com
SUMMARY:Kids Christmas Crafts Afternoon
DESCRIPTION:Enjoy an afternoon of crafts and fun on our Cinema Terrace. \nThe entrance includes a cookie kit per child\, as well as various stations where the kids can make popcorn garlands\, snowflakes and clay candy canes. \nJuice and hot coca are also included. \nPlease note refund requests will only be honoured 48 hours prior to the event.
URL:https://www.the-island-house.com/event/kids-christmas-crafts-afternoon/
LOCATION:Cinema Terrace\, The Island House\, Bahamas
CATEGORIES:The Island House
ATTACH;FMTTYPE=image/png:https://www.the-island-house.com/wp-content/uploads/2024/12/Screenshot-2024-12-04-at-3.35.07 PM.png
ORGANIZER;CN="The Island House":MAILTO:events@the-island-house.com
END:VEVENT
END:VCALENDAR